BEGIN:VCALENDAR
VERSION:2.0
PRODID:-//Forsyth Works - ECPv6.15.20//NONSGML v1.0//EN
CALSCALE:GREGORIAN
METHOD:PUBLISH
X-WR-CALNAME:Forsyth Works
X-ORIGINAL-URL:https://forsythworksnc.com
X-WR-CALDESC:Events for Forsyth Works
REFRESH-INTERVAL;VALUE=DURATION:PT1H
X-Robots-Tag:noindex
X-PUBLISHED-TTL:PT1H
BEGIN:VTIMEZONE
TZID:UTC
BEGIN:STANDARD
TZOFFSETFROM:+0000
TZOFFSETTO:+0000
TZNAME:UTC
DTSTART:20230101T000000
END:STANDARD
END:VTIMEZONE
BEGIN:VEVENT
DTSTART;TZID=UTC:20240814T110000
DTEND;TZID=UTC:20240814T120000
DTSTAMP:20260424T160419
CREATED:20240724T175636Z
LAST-MODIFIED:20240725T135333Z
UID:10000008-1723633200-1723636800@forsythworksnc.com
SUMMARY:LinkedIn Tips
DESCRIPTION:Randy Wooden\, Director of Goodwill’s Professional Center\, will share his expertise on how to create a strong LinkedIn profile that tells your story\, best practices when connecting to others\, and how to optimize your job search.
URL:https://forsythworksnc.com/event/linkedin-tips/
LOCATION:Goodwill Industries of Northwest North Carolina\, Inc.\, 2701 University Parkway\, Winston-Salem\, NC\, 27105\, United States
ATTACH;FMTTYPE=image/png:https://forsythworksnc.com/wp-content/uploads/2024/07/AUG-ARPA1.png
END:VEVENT
END:VCALENDAR