BEGIN:VCALENDAR
VERSION:2.0
PRODID:-//Forsyth Works - ECPv6.15.20//NONSGML v1.0//EN
CALSCALE:GREGORIAN
METHOD:PUBLISH
X-WR-CALNAME:Forsyth Works
X-ORIGINAL-URL:https://forsythworksnc.com
X-WR-CALDESC:Events for Forsyth Works
REFRESH-INTERVAL;VALUE=DURATION:PT1H
X-Robots-Tag:noindex
X-PUBLISHED-TTL:PT1H
BEGIN:VTIMEZONE
TZID:UTC
BEGIN:STANDARD
TZOFFSETFROM:+0000
TZOFFSETTO:+0000
TZNAME:UTC
DTSTART:20230101T000000
END:STANDARD
END:VTIMEZONE
BEGIN:VEVENT
DTSTART;TZID=UTC:20240815T113000
DTEND;TZID=UTC:20240815T130000
DTSTAMP:20260424T160419
CREATED:20240724T164113Z
LAST-MODIFIED:20240724T170824Z
UID:10000002-1723721400-1723726800@forsythworksnc.com
SUMMARY:Borrowing for Small Business
DESCRIPTION:We invite minority and women (MWBE) business owners to join us for Borrowing for Small Business\, part of the Business Success Series of workshops designed to help you gain valuable financial knowledge for your business. This interactive session will help you understand your business’s financing options and put you in the best position to get the funding your business needs. \n\n\n\nIn this course\, you’ll learn why businesses borrow\, where to turn for funding\, and how the lending process works to get you to a smoother\, smarter\, and often more successful outcome. We’ll also provide valuable take-away resources to help you and your business. \n\n\n\nInstruction is provided by Truist through their Bank on Your Success program. \n\n\n\nLunch is provided. \n\n\n\n\n\nSee Events Information
URL:https://forsythworksnc.com/event/borrowing-for-small-business/
LOCATION:Greater Winston-Salem Inc.\, 525 Vine Street Suite 240\, Winston-Salem\, NC\, 27101\, United States
CATEGORIES:Information Session
ATTACH;FMTTYPE=image/png:https://forsythworksnc.com/wp-content/uploads/2024/07/MWBE-Financial-Series.png
END:VEVENT
END:VCALENDAR