BEGIN:VCALENDAR
VERSION:2.0
PRODID:-//Forsyth Works - ECPv6.15.20//NONSGML v1.0//EN
CALSCALE:GREGORIAN
METHOD:PUBLISH
X-WR-CALNAME:Forsyth Works
X-ORIGINAL-URL:https://forsythworksnc.com
X-WR-CALDESC:Events for Forsyth Works
REFRESH-INTERVAL;VALUE=DURATION:PT1H
X-Robots-Tag:noindex
X-PUBLISHED-TTL:PT1H
BEGIN:VTIMEZONE
TZID:UTC
BEGIN:STANDARD
TZOFFSETFROM:+0000
TZOFFSETTO:+0000
TZNAME:UTC
DTSTART:20230101T000000
END:STANDARD
END:VTIMEZONE
BEGIN:VEVENT
DTSTART;TZID=UTC:20240821T130000
DTEND;TZID=UTC:20240821T140000
DTSTAMP:20260424T161400
CREATED:20240725T135153Z
LAST-MODIFIED:20240725T135154Z
UID:10000010-1724245200-1724248800@forsythworksnc.com
SUMMARY:Job Seeker Resource Group
DESCRIPTION:Looking for a new job or changing careers can be a challenging and time-consuming experience. It requires resilience and staying optimistic. Investing time in your job search helps connect you with opportunities and shortens the amount of time it takes to land your next opportunity.  \n\n\n\nThe Forsyth Works Job Seeker Resource Group is a monthly meet up with the purpose of providing job seekers support through their search and career changes. Meetings offer attendees the chance to share their experiences\, network\, receive advice\, and learn information that will support their job search and career development.  \n\n\n\nPlease note that registration information and discussions during meetings are confidential. \n\n\n\n\n\nSee Events Information
URL:https://forsythworksnc.com/event/job-seeker-resource-group-2/
LOCATION:Greater Winston-Salem Inc.\, 525 Vine Street Suite 240\, Winston-Salem\, NC\, 27101\, United States
ATTACH;FMTTYPE=image/png:https://forsythworksnc.com/wp-content/uploads/2024/07/AUG-ARPA3.png
END:VEVENT
END:VCALENDAR