BEGIN:VCALENDAR
VERSION:2.0
PRODID:-//Forsyth Works - ECPv6.15.20//NONSGML v1.0//EN
CALSCALE:GREGORIAN
METHOD:PUBLISH
X-ORIGINAL-URL:https://forsythworksnc.com
X-WR-CALDESC:Events for Forsyth Works
REFRESH-INTERVAL;VALUE=DURATION:PT1H
X-Robots-Tag:noindex
X-PUBLISHED-TTL:PT1H
BEGIN:VTIMEZONE
TZID:UTC
BEGIN:STANDARD
TZOFFSETFROM:+0000
TZOFFSETTO:+0000
TZNAME:UTC
DTSTART:20230101T000000
END:STANDARD
END:VTIMEZONE
BEGIN:VEVENT
DTSTART;TZID=UTC:20240925T100000
DTEND;TZID=UTC:20240925T140000
DTSTAMP:20260424T145700
CREATED:20240731T133728Z
LAST-MODIFIED:20240731T133729Z
UID:10000019-1727258400-1727272800@forsythworksnc.com
SUMMARY:Workforce Wednesdays
DESCRIPTION:What: Tabling event for employers to meet students in a high-traffic area on Forsyth Tech’s main campus \n\n\n\nDate: Each Wednesday of the Fall & Spring semesters\, beginning August 28th \n\n\n\nTime: 10 AM – 2 PM \n\n\n\nLocation: Robert L. Strickland Center lobby \n\n\n\nParticipation Fee: $25 per visit (two visits maximum per semester).  This fee will be used to buy snacks for the students\, encouraging their attendance and making the event more enjoyable for everyone. \n\n\n\nTo reserve your spot(s) for Workforce Wednesdays\, please visit Career Hub by Symplicity. Spaces are limited to 6 employers each Wednesday\, so we encourage you to secure your spot(s) early. \n\n\n\nAdditionally\, we ask that you provide as much detail as possible about your company and current job openings in your registration. This information will be shared with our students in advance\, helping them to identify employers that align with their career interests. \n\n\n\nWe encourage you to participate so you can connect with our students seeking employment opportunities\, showcase your organization’s brand and career/internship opportunities\, and demonstrate your commitment to supporting local education and workforce development initiatives. \n\n\n\n\n\nRegister
URL:https://forsythworksnc.com/event/workforce-wednesdays/2024-09-25/
LOCATION:NC
CATEGORIES:For Employers
ATTACH;FMTTYPE=image/png:https://forsythworksnc.com/wp-content/uploads/2024/07/Screenshot-2024-07-31-at-9.36.45 AM.png
END:VEVENT
BEGIN:VEVENT
DTSTART;TZID=UTC:20240925T130000
DTEND;TZID=UTC:20240925T140000
DTSTAMP:20260424T145700
CREATED:20240730T170709Z
LAST-MODIFIED:20240730T170710Z
UID:10000013-1727269200-1727272800@forsythworksnc.com
SUMMARY:AI in the Job Search
DESCRIPTION:Artificial Intelligence (AI) technology is becoming increasingly popular and accessible\, including during the job search. Job seekers can leverage AI tools to enhance or perform numerous tasks that at one time could only be achieved manually. While many have started to embrace AI\, others continue to be curious and even a bit hesitant to incorporate this new technology into the job search and career development.  \n\n\n\nJoin Beth Mitchell\, Career Services Director at Forsyth Technical Community College\, for an innovative discussion on leveraging AI technology in the job search\, including the advantages and drawbacks of utilizing AI\, strategies to optimize your resume\, interview skills\, job alignment\, and more all using this revolutionary technology. \n\n\n\n\n\nSee Events Information
URL:https://forsythworksnc.com/event/ai-in-the-job-search/
LOCATION:Greater Winston-Salem Inc.\, 525 Vine Street Suite 240\, Winston-Salem\, NC\, 27101\, United States
CATEGORIES:Career Skills,Information Session
ATTACH;FMTTYPE=image/png:https://forsythworksnc.com/wp-content/uploads/2024/07/sept-ARPA3.png
END:VEVENT
END:VCALENDAR