BEGIN:VCALENDAR
VERSION:2.0
PRODID:-//Forsyth Works - ECPv6.15.20//NONSGML v1.0//EN
CALSCALE:GREGORIAN
METHOD:PUBLISH
X-WR-CALNAME:Forsyth Works
X-ORIGINAL-URL:https://forsythworksnc.com
X-WR-CALDESC:Events for Forsyth Works
REFRESH-INTERVAL;VALUE=DURATION:PT1H
X-Robots-Tag:noindex
X-PUBLISHED-TTL:PT1H
BEGIN:VTIMEZONE
TZID:UTC
BEGIN:STANDARD
TZOFFSETFROM:+0000
TZOFFSETTO:+0000
TZNAME:UTC
DTSTART:20230101T000000
END:STANDARD
END:VTIMEZONE
BEGIN:VEVENT
DTSTART;TZID=UTC:20241107T000000
DTEND;TZID=UTC:20241107T235959
DTSTAMP:20260424T120735
CREATED:20240724T164028Z
LAST-MODIFIED:20240724T170629Z
UID:10000007-1730937600-1731023999@forsythworksnc.com
SUMMARY:HUB Certification Virtual Training
DESCRIPTION:Join us for a HUB Certification Day to help minority and woman-owned businesses apply for the NC Statewide Uniform Certification. \n\n\n\n\n\nSee Events Information
URL:https://forsythworksnc.com/event/hub-certification-virtual-training/2024-11-07/
LOCATION:Virtual\, Virtual
CATEGORIES:Information Session
ATTACH;FMTTYPE=image/png:https://forsythworksnc.com/wp-content/uploads/2024/05/2.png
END:VEVENT
BEGIN:VEVENT
DTSTART;TZID=UTC:20241107T100000
DTEND;TZID=UTC:20241107T120000
DTSTAMP:20260424T120735
CREATED:20241011T164213Z
LAST-MODIFIED:20241011T164214Z
UID:10000035-1730973600-1730980800@forsythworksnc.com
SUMMARY:WS/FCS Operations Career Fair
DESCRIPTION:Get ready to kickstart your career journey with Winston-Salem/Forsyth County Schools! 🚀 \n\n\n\nWe’re thrilled to announce our Fall 2024 Operations Career Fair\, your gateway to exciting positions beyond the classroom. Join us on November 7 from 10 AM to 12 PM at Griffith Gymnasium\, which is adjacent to Griffith Elementary School\, at 1385 W CLEMMONSVILLE RD\, WINSTON-SALEM\, NC 27127. \n\n\n\nThis isn’t your average job fair – it’s a chance to connect directly with hiring managers from our Child Nutrition\, Maintenance\, and Transportation Departments. Imagine the possibilities awaiting you!
URL:https://forsythworksnc.com/event/ws-fcs-operations-career-fair/
LOCATION:Griffith Elementary School\, 1385 W CLEMMONSVILLE RD\, winston-salem\, North Carolina\, 27127\, United States
CATEGORIES:Career Skills
ATTACH;FMTTYPE=image/jpeg:https://forsythworksnc.com/wp-content/uploads/2024/03/wsfcs.jpg
END:VEVENT
END:VCALENDAR