BEGIN:VCALENDAR
VERSION:2.0
PRODID:-//Forsyth Works - ECPv6.15.20//NONSGML v1.0//EN
CALSCALE:GREGORIAN
METHOD:PUBLISH
X-WR-CALNAME:Forsyth Works
X-ORIGINAL-URL:https://forsythworksnc.com
X-WR-CALDESC:Events for Forsyth Works
REFRESH-INTERVAL;VALUE=DURATION:PT1H
X-Robots-Tag:noindex
X-PUBLISHED-TTL:PT1H
BEGIN:VTIMEZONE
TZID:UTC
BEGIN:STANDARD
TZOFFSETFROM:+0000
TZOFFSETTO:+0000
TZNAME:UTC
DTSTART:20240101T000000
END:STANDARD
END:VTIMEZONE
BEGIN:VEVENT
DTSTART;TZID=UTC:20250129T170000
DTEND;TZID=UTC:20250129T183000
DTSTAMP:20260424T081534
CREATED:20250121T140953Z
LAST-MODIFIED:20250121T140954Z
UID:10000110-1738170000-1738175400@forsythworksnc.com
SUMMARY:Job Interview Skills
DESCRIPTION:Recommended for people ages 15-20. Are you new to the job market? Trying to find a better job? Learn the essential skills to find and apply to the job you want. \n\n\n\nPresented by Forsyth Works.
URL:https://forsythworksnc.com/event/job-interview-skills/
LOCATION:Forsyth County Central Library\, 660 W 5th Street\, Winston-Salem\, North Carolina\, 27101\, United States
CATEGORIES:Career Skills,Information Session
ATTACH;FMTTYPE=image/png:https://forsythworksnc.com/wp-content/uploads/2025/01/Screenshot-2025-01-21-at-9.09.21 AM.png
END:VEVENT
END:VCALENDAR