BEGIN:VCALENDAR
VERSION:2.0
PRODID:-//Forsyth Works - ECPv6.15.20//NONSGML v1.0//EN
CALSCALE:GREGORIAN
METHOD:PUBLISH
X-ORIGINAL-URL:https://forsythworksnc.com
X-WR-CALDESC:Events for Forsyth Works
REFRESH-INTERVAL;VALUE=DURATION:PT1H
X-Robots-Tag:noindex
X-PUBLISHED-TTL:PT1H
BEGIN:VTIMEZONE
TZID:UTC
BEGIN:STANDARD
TZOFFSETFROM:+0000
TZOFFSETTO:+0000
TZNAME:UTC
DTSTART:20240101T000000
END:STANDARD
END:VTIMEZONE
BEGIN:VEVENT
DTSTART;TZID=UTC:20250326T100000
DTEND;TZID=UTC:20250326T140000
DTSTAMP:20260424T065707
CREATED:20250320T152810Z
LAST-MODIFIED:20250320T152812Z
UID:10000124-1742983200-1742997600@forsythworksnc.com
SUMMARY:NC Works Career Center of Forsyth County Resource Fair
DESCRIPTION:Goodwill and NCWorks are holding a resource fair for job seekers to access community resources.
URL:https://forsythworksnc.com/event/nc-works-career-center-of-forsyth-county-resource-fair/
LOCATION:Goodwill Industries of Northwest North Carolina\, Inc.\, 2701 University Parkway\, Winston-Salem\, NC\, 27105\, United States
CATEGORIES:Career Skills,Information Session
ATTACH;FMTTYPE=image/png:https://forsythworksnc.com/wp-content/uploads/2025/03/Screenshot-2025-03-20-at-11.26.38 AM.png
END:VEVENT
BEGIN:VEVENT
DTSTART;TZID=UTC:20250326T110000
DTEND;TZID=UTC:20250326T140000
DTSTAMP:20260424T065707
CREATED:20250110T190224Z
LAST-MODIFIED:20250110T190225Z
UID:10000105-1742986800-1742997600@forsythworksnc.com
SUMMARY:Business & IT Career Fair
DESCRIPTION:Engage with Forsyth Tech students and find new talent for your organization. \n\n\n\no Accounting and Financeo Business Administrationo Human Resourceso IT–Cybersecurity\, Data Reporting & Analytics and Database Administration\, Network Management\, Systems Security\, Technical Support\, Web Technologies\, Programming and Software Developmento Paralegal Technologyo Project Management Technologyo Supply Chain Management
URL:https://forsythworksnc.com/event/business-it-career-fair/
LOCATION:Forsyth Tech Robert L. Strickland Center\, 1615 Miller Street\, Winston-Salem\, NC\, 27103
CATEGORIES:For Employers
ATTACH;FMTTYPE=image/png:https://forsythworksnc.com/wp-content/uploads/2025/01/Forsyth-Tech.png
END:VEVENT
END:VCALENDAR