BEGIN:VCALENDAR
VERSION:2.0
PRODID:-//Forsyth Works - ECPv6.15.20//NONSGML v1.0//EN
CALSCALE:GREGORIAN
METHOD:PUBLISH
X-ORIGINAL-URL:https://forsythworksnc.com
X-WR-CALDESC:Events for Forsyth Works
REFRESH-INTERVAL;VALUE=DURATION:PT1H
X-Robots-Tag:noindex
X-PUBLISHED-TTL:PT1H
BEGIN:VTIMEZONE
TZID:UTC
BEGIN:STANDARD
TZOFFSETFROM:+0000
TZOFFSETTO:+0000
TZNAME:UTC
DTSTART:20240101T000000
END:STANDARD
END:VTIMEZONE
BEGIN:VEVENT
DTSTART;TZID=UTC:20250407T073000
DTEND;TZID=UTC:20250407T153000
DTSTAMP:20260424T055304
CREATED:20250127T202239Z
LAST-MODIFIED:20250127T202240Z
UID:10000114-1744011000-1744039800@forsythworksnc.com
SUMMARY:WS/FCS Career Launch Lab
DESCRIPTION:We are excited to invite you to our monthly Career Launch Lab\, designed to help you make valuable career connections and enhance your job application materials for WS/FCS positions. \n\n\n\nHosted by Winston-Salem/Forsyth County Schools\, these sessions provide personalized assistance to help you advance your career. Our dedicated Human Resource Representatives will be available to support you with completing online applications\, crafting a new resume\, or refining an existing one. \n\n\n\nEvent Details: \n\n\n\nLocation: Technology Data Lab\, Administrative Building\, 475 Corporate Square Drive\, Winston-Salem\, NC 27105 \n\n\n\nDate: First Monday of every month \n\n\n\nTime: Drop in anytime between 7:30 AM and 3:30 PM
URL:https://forsythworksnc.com/event/ws-fcs-career-launch-lab/2025-04-07/
LOCATION:WS/FCS Administration Building\, 475 Corporate Square Drive\, Winston-Salem\, North Carolina\, 27105\, United States
CATEGORIES:Career Skills
ATTACH;FMTTYPE=image/png:https://forsythworksnc.com/wp-content/uploads/2025/01/Screenshot-2025-01-24-at-10.05.07 AM.png
END:VEVENT
END:VCALENDAR