BEGIN:VCALENDAR
VERSION:2.0
PRODID:-//Forsyth Works - ECPv6.15.20//NONSGML v1.0//EN
CALSCALE:GREGORIAN
METHOD:PUBLISH
X-WR-CALNAME:Forsyth Works
X-ORIGINAL-URL:https://forsythworksnc.com
X-WR-CALDESC:Events for Forsyth Works
REFRESH-INTERVAL;VALUE=DURATION:PT1H
X-Robots-Tag:noindex
X-PUBLISHED-TTL:PT1H
BEGIN:VTIMEZONE
TZID:UTC
BEGIN:STANDARD
TZOFFSETFROM:+0000
TZOFFSETTO:+0000
TZNAME:UTC
DTSTART:20240101T000000
END:STANDARD
END:VTIMEZONE
BEGIN:VEVENT
DTSTART;TZID=UTC:20250618T090000
DTEND;TZID=UTC:20250618T130000
DTSTAMP:20260424T032837
CREATED:20250516T175451Z
LAST-MODIFIED:20250516T175453Z
UID:10000133-1750237200-1750251600@forsythworksnc.com
SUMMARY:Career Ready Credential
DESCRIPTION:Developing and demonstrating employability skills can boost your career prospects\, enhance job satisfaction\, and support ongoing professional growth across a variety of roles and industries. Employers consistently value candidates who bring a strong blend of technical knowledge and essential interpersonal skills. \n\n\n\nThis is a two-day event: join us on June 18th and June 26th to earn the Forsyth Works Career Ready Credential. This credential includes 8 classroom hours of career-ready curriculum covering key topics such as personal branding\, effective communication\, conflict management\, professionalism\, networking\, and more. We’ll also explore how to build a career pathway\, whether you’re starting a new role or looking to grow within your current organization. \n\n\n\nThis opportunity is ideal for job seekers as well as individuals currently employed who are seeking to strengthen their professional skills. To earn the credential and receive a digital badge via Credly\, participants must attend and complete both sessions for a total of 8 hours. A working lunch break is included. Lunch will be provided. \n\n\n\n\n\nSee Events Information
URL:https://forsythworksnc.com/event/career-ready-credential/2025-06-18/
LOCATION:Greater Winston-Salem Inc.\, 525 Vine Street Suite 240\, Winston-Salem\, NC\, 27101\, United States
CATEGORIES:Career Skills
ATTACH;FMTTYPE=image/png:https://forsythworksnc.com/wp-content/uploads/2025/05/ARPA-March-1-1.png
END:VEVENT
END:VCALENDAR