BEGIN:VCALENDAR
VERSION:2.0
PRODID:-//Forsyth Works - ECPv6.15.20//NONSGML v1.0//EN
CALSCALE:GREGORIAN
METHOD:PUBLISH
X-ORIGINAL-URL:https://forsythworksnc.com
X-WR-CALDESC:Events for Forsyth Works
REFRESH-INTERVAL;VALUE=DURATION:PT1H
X-Robots-Tag:noindex
X-PUBLISHED-TTL:PT1H
BEGIN:VTIMEZONE
TZID:UTC
BEGIN:STANDARD
TZOFFSETFROM:+0000
TZOFFSETTO:+0000
TZNAME:UTC
DTSTART:20240101T000000
END:STANDARD
END:VTIMEZONE
BEGIN:VEVENT
DTSTART;TZID=UTC:20250716T140000
DTEND;TZID=UTC:20250716T160000
DTSTAMP:20260424T022819
CREATED:20250516T133318Z
LAST-MODIFIED:20250516T133319Z
UID:10000131-1752674400-1752681600@forsythworksnc.com
SUMMARY:Ask a Recruiter Panel
DESCRIPTION:Summer is a great time to reset your goals\, and for many\, that includes exploring new job opportunities. Whether you’re searching for your first job\, considering a career change\, or looking to grow in your current field\, preparation is key. Understanding what employers are looking for and building the right skills can make all the difference. \n\n\n\nJoin us on July 16th as we welcome top local recruiters and HR professionals who will share valuable job search insights and career tips to help you succeed. A Q&A session is included to give you the chance to ask questions.
URL:https://forsythworksnc.com/event/ask-a-recruiter-panel/
LOCATION:Goodwill Industries of Northwest North Carolina\, Inc.\, 2701 University Parkway\, Winston-Salem\, NC\, 27105\, United States
CATEGORIES:Career Skills,Information Session
ATTACH;FMTTYPE=image/png:https://forsythworksnc.com/wp-content/uploads/2025/05/ARPA-March-1.png
END:VEVENT
END:VCALENDAR