BEGIN:VCALENDAR
VERSION:2.0
PRODID:-//Forsyth Works - ECPv6.15.20//NONSGML v1.0//EN
CALSCALE:GREGORIAN
METHOD:PUBLISH
X-ORIGINAL-URL:https://forsythworksnc.com
X-WR-CALDESC:Events for Forsyth Works
REFRESH-INTERVAL;VALUE=DURATION:PT1H
X-Robots-Tag:noindex
X-PUBLISHED-TTL:PT1H
BEGIN:VTIMEZONE
TZID:UTC
BEGIN:STANDARD
TZOFFSETFROM:+0000
TZOFFSETTO:+0000
TZNAME:UTC
DTSTART:20230101T000000
END:STANDARD
END:VTIMEZONE
BEGIN:VEVENT
DTSTART;TZID=UTC:20241204T100000
DTEND;TZID=UTC:20241204T140000
DTSTAMP:20260421T052602
CREATED:20241007T160229Z
LAST-MODIFIED:20241007T160230Z
UID:10000029-1733306400-1733320800@forsythworksnc.com
SUMMARY:Workforce Wednesdays
DESCRIPTION:What: Tabling event for employers to meet students in a high-traffic area on Forsyth Tech’s main campus \n\n\n\nDate: Each Wednesday of the Fall & Spring semesters\, beginning August 28th \n\n\n\nTime: 10 AM – 2 PM \n\n\n\nLocation: Robert L. Strickland Center lobby \n\n\n\nParticipation Fee: $25 per visit (two visits maximum per semester).  This fee will be used to buy snacks for the students\, encouraging their attendance and making the event more enjoyable for everyone. \n\n\n\nTo reserve your spot(s) for Workforce Wednesdays\, please visit Career Hub by Symplicity. Spaces are limited to 6 employers each Wednesday\, so we encourage you to secure your spot(s) early. \n\n\n\nAdditionally\, we ask that you provide as much detail as possible about your company and current job openings in your registration. This information will be shared with our students in advance\, helping them to identify employers that align with their career interests. \n\n\n\nWe encourage you to participate so you can connect with our students seeking employment opportunities\, showcase your organization’s brand and career/internship opportunities\, and demonstrate your commitment to supporting local education and workforce development initiatives. \n\n\n\n\n\nRegister
URL:https://forsythworksnc.com/event/workforce-wednesdays-2/2024-12-04/
LOCATION:NC
CATEGORIES:For Employers
ATTACH;FMTTYPE=image/png:https://forsythworksnc.com/wp-content/uploads/2024/07/Screenshot-2024-07-31-at-9.36.45 AM.png
END:VEVENT
BEGIN:VEVENT
DTSTART;TZID=UTC:20241210T090000
DTEND;TZID=UTC:20241210T100000
DTSTAMP:20260421T052602
CREATED:20241114T184552Z
LAST-MODIFIED:20241114T184552Z
UID:10000041-1733821200-1733824800@forsythworksnc.com
SUMMARY:Forsyth Works Job Seeker Resource Group
DESCRIPTION:Looking for a new job or changing careers can be a challenging and time-consuming experience. It requires resilience and staying optimistic. Investing time in your job search that connects with opportunities and shortens the amount of time it takes to land your next opportunity is the ultimate goal. All of this is especially true when continuing your job search over the holidays.  \n\n\n\nThe Forsyth Works Job Seeker Resource Group is a quarterly meet up with the purpose of providing job seekers support through their search and career changes. Meetings offer attendees the chance to share their experiences\, network\, receive advice\, and information that will support their job search and career development. This meeting will focus on providing tips to support you while continuing your job search over the holiday season.  \n\n\n\n*Please note that registration information and discussions during meetings are confidential.  \n\n\n\n\n\nSee Events Information
URL:https://forsythworksnc.com/event/forsyth-works-job-seeker-resource-group/
LOCATION:Greater Winston-Salem Inc.\, 525 Vine Street Suite 240\, Winston-Salem\, NC\, 27101\, United States
CATEGORIES:For Employers,Information Session
ATTACH;FMTTYPE=image/png:https://forsythworksnc.com/wp-content/uploads/2024/11/2.png
END:VEVENT
BEGIN:VEVENT
DTSTART;TZID=UTC:20241211T100000
DTEND;TZID=UTC:20241211T140000
DTSTAMP:20260421T052602
CREATED:20241007T160229Z
LAST-MODIFIED:20241007T160230Z
UID:10000030-1733911200-1733925600@forsythworksnc.com
SUMMARY:Workforce Wednesdays
DESCRIPTION:What: Tabling event for employers to meet students in a high-traffic area on Forsyth Tech’s main campus \n\n\n\nDate: Each Wednesday of the Fall & Spring semesters\, beginning August 28th \n\n\n\nTime: 10 AM – 2 PM \n\n\n\nLocation: Robert L. Strickland Center lobby \n\n\n\nParticipation Fee: $25 per visit (two visits maximum per semester).  This fee will be used to buy snacks for the students\, encouraging their attendance and making the event more enjoyable for everyone. \n\n\n\nTo reserve your spot(s) for Workforce Wednesdays\, please visit Career Hub by Symplicity. Spaces are limited to 6 employers each Wednesday\, so we encourage you to secure your spot(s) early. \n\n\n\nAdditionally\, we ask that you provide as much detail as possible about your company and current job openings in your registration. This information will be shared with our students in advance\, helping them to identify employers that align with their career interests. \n\n\n\nWe encourage you to participate so you can connect with our students seeking employment opportunities\, showcase your organization’s brand and career/internship opportunities\, and demonstrate your commitment to supporting local education and workforce development initiatives. \n\n\n\n\n\nRegister
URL:https://forsythworksnc.com/event/workforce-wednesdays-2/2024-12-11/
LOCATION:NC
CATEGORIES:For Employers
ATTACH;FMTTYPE=image/png:https://forsythworksnc.com/wp-content/uploads/2024/07/Screenshot-2024-07-31-at-9.36.45 AM.png
END:VEVENT
BEGIN:VEVENT
DTSTART;TZID=UTC:20241211T110000
DTEND;TZID=UTC:20241211T120000
DTSTAMP:20260421T052602
CREATED:20241114T184800Z
LAST-MODIFIED:20241114T184801Z
UID:10000042-1733914800-1733918400@forsythworksnc.com
SUMMARY:LinkedIn Tips
DESCRIPTION:LinkedIn is the largest professional social networking site where members can search for jobs\, build a professional brand\, and establish new connections. Join us for a free workshop to learn LinkedIn tips that will enhance your job search and career. Randy Wooden\, Director of Goodwill’s Professional Center\, will share his expertise on how to create a strong LinkedIn profile that tells your story\, best practices when connecting to others\, and how to optimize your job search. \n\n\n\n\n\nSee Events Information
URL:https://forsythworksnc.com/event/linkedin-tips-2/
LOCATION:Goodwill Industries of Northwest North Carolina\, Inc.\, 2701 University Parkway\, Winston-Salem\, NC\, 27105\, United States
CATEGORIES:For Employers,Information Session
ATTACH;FMTTYPE=image/png:https://forsythworksnc.com/wp-content/uploads/2024/11/3.png
END:VEVENT
BEGIN:VEVENT
DTSTART;TZID=UTC:20241211T173000
DTEND;TZID=UTC:20241211T193000
DTSTAMP:20260421T052602
CREATED:20241114T185035Z
LAST-MODIFIED:20241114T185036Z
UID:10000043-1733938200-1733945400@forsythworksnc.com
SUMMARY:Using AI in the Job Search
DESCRIPTION:Curious how Artificial Intelligence can give you a competitive edge in your job search? From resume-building to personalized career tips.Join us for this FREE session with Goodwill Industries on Wednesday\, Dec. 11\, 5:30pm – 7:30pm to learn how to leverage AI in your career journey. Open to anyone unemployed\, underemployed\, retired\, or facing a layoff.👉 Sign up here: https://lnkd.in/eZv_6KcHUse Course code: 171395 \n\n\n\n\n\nSee Events Information
URL:https://forsythworksnc.com/event/using-ai-in-the-job-search/
LOCATION:Goodwill Industries of Northwest North Carolina\, Inc.\, 2701 University Parkway\, Winston-Salem\, NC\, 27105\, United States
CATEGORIES:For Employers,Information Session
ATTACH;FMTTYPE=image/png:https://forsythworksnc.com/wp-content/uploads/2024/11/Screenshot-2024-11-14-at-12.55.29 PM.png
END:VEVENT
END:VCALENDAR