BEGIN:VCALENDAR
VERSION:2.0
PRODID:-//Forsyth Works - ECPv6.15.20//NONSGML v1.0//EN
CALSCALE:GREGORIAN
METHOD:PUBLISH
X-WR-CALNAME:Forsyth Works
X-ORIGINAL-URL:https://forsythworksnc.com
X-WR-CALDESC:Events for Forsyth Works
REFRESH-INTERVAL;VALUE=DURATION:PT1H
X-Robots-Tag:noindex
X-PUBLISHED-TTL:PT1H
BEGIN:VTIMEZONE
TZID:UTC
BEGIN:STANDARD
TZOFFSETFROM:+0000
TZOFFSETTO:+0000
TZNAME:UTC
DTSTART:20240101T000000
END:STANDARD
END:VTIMEZONE
BEGIN:VEVENT
DTSTART;TZID=UTC:20250402T110000
DTEND;TZID=UTC:20250402T140000
DTSTAMP:20260420T234041
CREATED:20250110T190420Z
LAST-MODIFIED:20250110T190421Z
UID:10000106-1743591600-1743602400@forsythworksnc.com
SUMMARY:Health Sciences Employer Meet & Greet
DESCRIPTION:Engage with Forsyth Tech students and find new talent for your organization. \n\n\n\no Cardiovascular Sonographyo Certified Nursing Assistanto Computed Tomography Imaging Technologyo Dental Assisting and Dental Hygieneo Health Information Technologyo Healthcare Management Technologyo Human Services Technologyo Interventional Cardiac and Vascular Technologyo Magnetic Resonance Imagingo Medical Assistingo Medical Office Administrationo Medical Sonographyo Nuclear Medicine Technologyo Nursingo Pharmacy Technologyo Phlebotomyo Radiation Therapy Technologyo Radiographyo Respiratory Therapyo Therapeutic Massage
URL:https://forsythworksnc.com/event/health-sciences-employer-meet-greet/
LOCATION:Forsyth Tech Robert L. Strickland Center\, 1615 Miller Street\, Winston-Salem\, NC\, 27103
CATEGORIES:For Employers
ATTACH;FMTTYPE=image/png:https://forsythworksnc.com/wp-content/uploads/2025/01/Forsyth-Tech.png
END:VEVENT
BEGIN:VEVENT
DTSTART;TZID=UTC:20250410T100000
DTEND;TZID=UTC:20250410T130000
DTSTAMP:20260420T234041
CREATED:20250331T183202Z
LAST-MODIFIED:20250331T183204Z
UID:10000125-1744279200-1744290000@forsythworksnc.com
SUMMARY:WS/FCS Next Step Hiring Fair
DESCRIPTION:Come prepared to speak with students about employment opportunities with your company. Each high school will bring seniors (and some early grads) that are seeking employment or military enlistment after graduation. Students are asked to come with a resume in hand and be prepared to speak with businesses regarding employment and military opportunities available to them.
URL:https://forsythworksnc.com/event/ws-fcs-next-step-hiring-fair/
LOCATION:Forsyth Tech Mazie Woodruff Center\, 4905 Lansing Dr\, Winston-Salem\, North Carolina\, 27105
CATEGORIES:For Employers
ATTACH;FMTTYPE=image/jpeg:https://forsythworksnc.com/wp-content/uploads/2024/03/wsfcs.jpg
END:VEVENT
BEGIN:VEVENT
DTSTART;TZID=UTC:20250416T100000
DTEND;TZID=UTC:20250416T130000
DTSTAMP:20260420T234041
CREATED:20250110T190536Z
LAST-MODIFIED:20250110T190537Z
UID:10000107-1744797600-1744808400@forsythworksnc.com
SUMMARY:Transportation Technology & Aviation Career Fair
DESCRIPTION:Engage with Forsyth Tech students and find new talent for your organization. \n\n\n\no Automotive Systems Technologyo Aviation Systems Technologyo Collision Repair & Refinishing Technologyo Diesel and Heavy Equipment Technologyo Motorcycle Mechanics Technologyo Race Car Technology
URL:https://forsythworksnc.com/event/transportation-technology-aviation-career-fair/
LOCATION:Forsyth Tech Robert L. Strickland Center\, 1615 Miller Street\, Winston-Salem\, NC\, 27103
CATEGORIES:For Employers
ATTACH;FMTTYPE=image/png:https://forsythworksnc.com/wp-content/uploads/2025/01/Forsyth-Tech.png
END:VEVENT
BEGIN:VEVENT
DTSTART;TZID=UTC:20250423T100000
DTEND;TZID=UTC:20250423T130000
DTSTAMP:20260420T234041
CREATED:20250110T190623Z
LAST-MODIFIED:20250110T190624Z
UID:10000108-1745402400-1745413200@forsythworksnc.com
SUMMARY:Public Safety Career Fair
DESCRIPTION:Engage with Forsyth Tech students and find new talent for your organization. \n\n\n\no Basic Law Enforcemento Criminal Justice Technologyo Electrical Lineworkero Emergency Managemento Emergency Medical Serviceso Fire Academyo Public Safety Administration
URL:https://forsythworksnc.com/event/public-safety-career-fair/
LOCATION:Forsyth Tech Robert L. Strickland Center\, 1615 Miller Street\, Winston-Salem\, NC\, 27103
CATEGORIES:For Employers
ATTACH;FMTTYPE=image/png:https://forsythworksnc.com/wp-content/uploads/2025/01/Forsyth-Tech.png
END:VEVENT
END:VCALENDAR