BEGIN:VCALENDAR
VERSION:2.0
PRODID:-//Forsyth Works - ECPv6.15.20//NONSGML v1.0//EN
CALSCALE:GREGORIAN
METHOD:PUBLISH
X-WR-CALNAME:Forsyth Works
X-ORIGINAL-URL:https://forsythworksnc.com
X-WR-CALDESC:Events for Forsyth Works
REFRESH-INTERVAL;VALUE=DURATION:PT1H
X-Robots-Tag:noindex
X-PUBLISHED-TTL:PT1H
BEGIN:VTIMEZONE
TZID:UTC
BEGIN:STANDARD
TZOFFSETFROM:+0000
TZOFFSETTO:+0000
TZNAME:UTC
DTSTART:20240101T000000
END:STANDARD
END:VTIMEZONE
BEGIN:VEVENT
DTSTART;TZID=UTC:20250715T150000
DTEND;TZID=UTC:20250715T170000
DTSTAMP:20260420T192328
CREATED:20250709T142639Z
LAST-MODIFIED:20250709T142640Z
UID:10000134-1752591600-1752598800@forsythworksnc.com
SUMMARY:WS/FCS Summer Career Fair
DESCRIPTION:Get ready to kickstart your career journey with Winston-Salem/Forsyth County Schools! Visit the Summer Career Fair to connect directly with hiring managers from our schools and operations departments about career opportunities at WS/FCS.
URL:https://forsythworksnc.com/event/ws-fcs-summer-career-fair/
LOCATION:Career Center High School\, 910 Highland Court\, Winston-Salem\, North Carolina\, 27101\, United States
CATEGORIES:For Employers
ATTACH;FMTTYPE=image/jpeg:https://forsythworksnc.com/wp-content/uploads/2024/03/wsfcs.jpg
END:VEVENT
END:VCALENDAR