BEGIN:VCALENDAR
VERSION:2.0
PRODID:-//Forsyth Works - ECPv6.15.20//NONSGML v1.0//EN
CALSCALE:GREGORIAN
METHOD:PUBLISH
X-WR-CALNAME:Forsyth Works
X-ORIGINAL-URL:https://forsythworksnc.com
X-WR-CALDESC:Events for Forsyth Works
REFRESH-INTERVAL;VALUE=DURATION:PT1H
X-Robots-Tag:noindex
X-PUBLISHED-TTL:PT1H
BEGIN:VTIMEZONE
TZID:UTC
BEGIN:STANDARD
TZOFFSETFROM:+0000
TZOFFSETTO:+0000
TZNAME:UTC
DTSTART:20230101T000000
END:STANDARD
END:VTIMEZONE
BEGIN:VEVENT
DTSTART;TZID=UTC:20240926T100000
DTEND;TZID=UTC:20240926T120000
DTSTAMP:20260421T110946
CREATED:20240806T180834Z
LAST-MODIFIED:20240806T180835Z
UID:10000031-1727344800-1727352000@forsythworksnc.com
SUMMARY:Exploring Childcare as an Employee Benefit: Business Roundtable
DESCRIPTION:We invite employers looking to modernize their benefits and gain a competitive advantage in recruiting talent to join us to explore childcare solutions as an employee benefit. Facilitated by Samantha Cole\, Child Care Business Liaison for the North Carolina Department of Commerce\, this conversation aims to bridge the gap between corporate policies and the needs of employees\, emphasizing how quality childcare can enhance employee satisfaction\, productivity\, and retention. Katura Jackson\, Executive Director of the Child Care Resource Center\, will discuss Forsyth County’s local challenges to gear solutions toward challenges in our community.  \n\n\n\n\n\nSee Events Information
URL:https://forsythworksnc.com/event/exploring-childcare-as-an-employee-benefit-business-roundtable/
LOCATION:NC
CATEGORIES:For Employers,Information Session
ATTACH;FMTTYPE=image/png:https://forsythworksnc.com/wp-content/uploads/2024/08/ARPA-Sept.png
END:VEVENT
END:VCALENDAR