BEGIN:VCALENDAR
VERSION:2.0
PRODID:-//Forsyth Works - ECPv6.15.20//NONSGML v1.0//EN
CALSCALE:GREGORIAN
METHOD:PUBLISH
X-WR-CALNAME:Forsyth Works
X-ORIGINAL-URL:https://forsythworksnc.com
X-WR-CALDESC:Events for Forsyth Works
REFRESH-INTERVAL;VALUE=DURATION:PT1H
X-Robots-Tag:noindex
X-PUBLISHED-TTL:PT1H
BEGIN:VTIMEZONE
TZID:UTC
BEGIN:STANDARD
TZOFFSETFROM:+0000
TZOFFSETTO:+0000
TZNAME:UTC
DTSTART:20230101T000000
END:STANDARD
END:VTIMEZONE
BEGIN:VEVENT
DTSTART;TZID=UTC:20241021T080000
DTEND;TZID=UTC:20241025T143000
DTSTAMP:20260421T094231
CREATED:20240923T165008Z
LAST-MODIFIED:20241021T155241Z
UID:10000034-1729497600-1729866600@forsythworksnc.com
SUMMARY:Workforce Development Week
DESCRIPTION:Join Forsyth County organizations and businesses in recognizing Workforce Development Week! Take part in the many events and activities happening this week:  \n\n\n\nTuesday\, October 22\n\n\n\nWorld of Work – LJVM Coliseum \n\n\n\nAs a part of our career-ready range of programs\, Greater Winston-Salem Inc. hosts the World of Work – a career exploration field trip for WS/FCS 8th and 10th graders. Showcase your company and industry as a participating employer. World of Work is presented by Forsyth County. \n\n\n\nJob Seeker Preparation Sessions – Goodwill Industries of Northwest NC & NC Works Career Center \n\n\n\n10:00 am – 11:00 am Resume Workshop11:05 am – 12:05 pm Interview Preparation12:10 pm – 1:00 pm LinkedIn for Beginners1:00 pm – 2:00 pm Resume Workshop2:00 pm – 3:00 pm Interview Preparation \n\n\n\nWednesday\, October 23\n\n\n\nWorld of Work – LJVM Coliseum \n\n\n\nAs a part of our career-ready range of programs\, Greater Winston-Salem Inc. hosts the World of Work – a career exploration field trip for WS/FCS 8th and 10th graders. Showcase your company and industry as a participating employer. World of Work is presented by Forsyth County. \n\n\n\nCommunity Career Fair – Goodwill Industries of Northwest NC & NC Works Career Center \n\n\n\nA multi-employer job fair open to the community. Participating Employers: \n\n\n\n\nSalem Sports Events\n\n\n\nPalletOne\n\n\n\nNovant\n\n\n\nForsyth County\n\n\n\nGrass America\n\n\n\nUNIFI\n\n\n\nGarner Foods\n\n\n\nAshley Furniture\n\n\n\nCariing Hands\n\n\n\nWake Forest University\n\n\n\nGoodwill\n\n\n\nCity of Winston-Salem\n\n\n\n\nThursday\, October 24\n\n\n\nWomen of Manufacturing – Forsyth Tech \n\n\n\nIn celebration of Manufacturing Month\, Forsyth Tech is proud to host the “Women of Manufacturing” conference. This one-day event aims to empower and inspire women in the manufacturing industry by providing a platform to share experiences\, build skills\, and explore career opportunities. \n\n\n\nFriday\, October 25\n\n\n\n#ForsythWorksNC Social Media Show Off \n\n\n\nAs part of Workforce Development Week\, we are encouraging Forsyth County residents to post pictures of their work or educational activities using hashtag #ForysthWorksNC! \n\n\n\n\n\nSee Events Information
URL:https://forsythworksnc.com/event/workforce-development-week/
LOCATION:NC
CATEGORIES:For Employers,Information Session
ATTACH;FMTTYPE=image/png:https://forsythworksnc.com/wp-content/uploads/2024/09/WORKFORCE-DEV-WEEK-1.png
END:VEVENT
BEGIN:VEVENT
DTSTART;TZID=UTC:20241022T080000
DTEND;TZID=UTC:20241023T143000
DTSTAMP:20260421T094231
CREATED:20240822T154746Z
LAST-MODIFIED:20240822T154747Z
UID:10000033-1729584000-1729693800@forsythworksnc.com
SUMMARY:World of Work
DESCRIPTION:This two-day event will welcome more than 5\,000 Winston-Salem/Forsyth County 8th and 10th graders to explore career possibilities across a variety of industries. Students will have the opportunity to interact with businesses and educational institutions to learn more about the careers that interest them and how to get there.Students will work their way through six “worlds” including Aviation/Aerospace\, Advanced Manufacturing\, Construction\, Technology\, Healthcare & Life Sciences and Business Services. Business booths are free\, and companies are encouraged to make their booths as interactive as possible. Lunch will be available to participating business representatives on both days of the event. There will be a networking breakfast to kick off the event on Tuesday\, October 22nd.  \n\n\n\n\n\nSee Events Information
URL:https://forsythworksnc.com/event/world-of-work/
LOCATION:NC
CATEGORIES:For Employers
ATTACH;FMTTYPE=image/png:https://forsythworksnc.com/wp-content/uploads/2024/08/WOW.png
END:VEVENT
BEGIN:VEVENT
DTSTART;TZID=UTC:20241023T100000
DTEND;TZID=UTC:20241023T140000
DTSTAMP:20260421T094231
CREATED:20241007T160229Z
LAST-MODIFIED:20241007T160230Z
UID:10000023-1729677600-1729692000@forsythworksnc.com
SUMMARY:Workforce Wednesdays
DESCRIPTION:What: Tabling event for employers to meet students in a high-traffic area on Forsyth Tech’s main campus \n\n\n\nDate: Each Wednesday of the Fall & Spring semesters\, beginning August 28th \n\n\n\nTime: 10 AM – 2 PM \n\n\n\nLocation: Robert L. Strickland Center lobby \n\n\n\nParticipation Fee: $25 per visit (two visits maximum per semester).  This fee will be used to buy snacks for the students\, encouraging their attendance and making the event more enjoyable for everyone. \n\n\n\nTo reserve your spot(s) for Workforce Wednesdays\, please visit Career Hub by Symplicity. Spaces are limited to 6 employers each Wednesday\, so we encourage you to secure your spot(s) early. \n\n\n\nAdditionally\, we ask that you provide as much detail as possible about your company and current job openings in your registration. This information will be shared with our students in advance\, helping them to identify employers that align with their career interests. \n\n\n\nWe encourage you to participate so you can connect with our students seeking employment opportunities\, showcase your organization’s brand and career/internship opportunities\, and demonstrate your commitment to supporting local education and workforce development initiatives. \n\n\n\n\n\nRegister
URL:https://forsythworksnc.com/event/workforce-wednesdays-2/2024-10-23/
LOCATION:NC
CATEGORIES:For Employers
ATTACH;FMTTYPE=image/png:https://forsythworksnc.com/wp-content/uploads/2024/07/Screenshot-2024-07-31-at-9.36.45 AM.png
END:VEVENT
END:VCALENDAR