BEGIN:VCALENDAR
VERSION:2.0
PRODID:-//Forsyth Works - ECPv6.15.20//NONSGML v1.0//EN
CALSCALE:GREGORIAN
METHOD:PUBLISH
X-ORIGINAL-URL:https://forsythworksnc.com
X-WR-CALDESC:Events for Forsyth Works
REFRESH-INTERVAL;VALUE=DURATION:PT1H
X-Robots-Tag:noindex
X-PUBLISHED-TTL:PT1H
BEGIN:VTIMEZONE
TZID:UTC
BEGIN:STANDARD
TZOFFSETFROM:+0000
TZOFFSETTO:+0000
TZNAME:UTC
DTSTART:20230101T000000
END:STANDARD
END:VTIMEZONE
BEGIN:VEVENT
DTSTART;TZID=UTC:20241119T113000
DTEND;TZID=UTC:20241119T130000
DTSTAMP:20260421T082741
CREATED:20241031T153008Z
LAST-MODIFIED:20241031T153010Z
UID:10000036-1732015800-1732021200@forsythworksnc.com
SUMMARY:Benefits of Customized Training for your Workforce
DESCRIPTION:Customized training is the top way to ensure that your workforce continues to develop and perform at an optimal level. Effective customized training will support your organization’s specific business needs and goals\, while providing employees with a learning experience that promotes the knowledge and skills they need to succeed. \n\n\n\nJoin us as we welcome Lisa Hawk\, Director of Corporate Training and Business Development\, to discuss NC Edge Customized Training and the Corporate Training Programs through Forsyth Tech. These programs provide training and upskilling to your incumbent employees and new employees. Classes are short term and tailored to your company specifically. And classes can be delivered around the clock at your location or one of the college campus locations. The most often requested training is around process improvement\, safety\, quality enhancement\, leadership\, and technical training. However\, anything can be created if it fits a need your business has. \n\n\n\nLunch will be provided for attendees. \n\n\n\n\n\nSee Events Information
URL:https://forsythworksnc.com/event/benefits-of-customized-training-for-your-workforce/
LOCATION:Greater Winston-Salem Inc.\, 525 Vine Street Suite 240\, Winston-Salem\, NC\, 27101\, United States
CATEGORIES:For Employers,Information Session
ATTACH;FMTTYPE=image/png:https://forsythworksnc.com/wp-content/uploads/2024/10/ARPA-Nov1.png
END:VEVENT
END:VCALENDAR