BEGIN:VCALENDAR
VERSION:2.0
PRODID:-//Forsyth Works - ECPv6.15.20//NONSGML v1.0//EN
CALSCALE:GREGORIAN
METHOD:PUBLISH
X-ORIGINAL-URL:https://forsythworksnc.com
X-WR-CALDESC:Events for Forsyth Works
REFRESH-INTERVAL;VALUE=DURATION:PT1H
X-Robots-Tag:noindex
X-PUBLISHED-TTL:PT1H
BEGIN:VTIMEZONE
TZID:UTC
BEGIN:STANDARD
TZOFFSETFROM:+0000
TZOFFSETTO:+0000
TZNAME:UTC
DTSTART:20240101T000000
END:STANDARD
END:VTIMEZONE
BEGIN:VEVENT
DTSTART;TZID=UTC:20250515T113000
DTEND;TZID=UTC:20250515T123000
DTSTAMP:20260420T234333
CREATED:20250429T141610Z
LAST-MODIFIED:20250429T141611Z
UID:10000127-1747308600-1747312200@forsythworksnc.com
SUMMARY:Business Finance Basics
DESCRIPTION:Learn key elements of banking and budgeting\, including how to manage your business’s finances\, improve your cash flow\, expand your business\, and understand how to protect your business with insurance options. \n\n\n\nThis is one of three workshops designed to help you gain valuable knowledge for success in personal and business finances. Attend all or choose which sessions are right for you. \n\n\n\nInstruction provided by Truist. Lunch is provided at each workshop. \n\n\n\n\n\nSee Events Information
URL:https://forsythworksnc.com/event/business-finance-basics-2/
LOCATION:Greater Winston-Salem Inc.\, 525 Vine Street Suite 240\, Winston-Salem\, NC\, 27101\, United States
CATEGORIES:Career Skills,For Employers,Information Session
ATTACH;FMTTYPE=image/png:https://forsythworksnc.com/wp-content/uploads/2025/04/Financial-Series.png
END:VEVENT
END:VCALENDAR