BEGIN:VCALENDAR
VERSION:2.0
PRODID:-//Forsyth Works - ECPv6.15.20//NONSGML v1.0//EN
CALSCALE:GREGORIAN
METHOD:PUBLISH
X-ORIGINAL-URL:https://forsythworksnc.com
X-WR-CALDESC:Events for Forsyth Works
REFRESH-INTERVAL;VALUE=DURATION:PT1H
X-Robots-Tag:noindex
X-PUBLISHED-TTL:PT1H
BEGIN:VTIMEZONE
TZID:UTC
BEGIN:STANDARD
TZOFFSETFROM:+0000
TZOFFSETTO:+0000
TZNAME:UTC
DTSTART:20240101T000000
END:STANDARD
END:VTIMEZONE
BEGIN:VEVENT
DTSTART;TZID=UTC:20250529T090000
DTEND;TZID=UTC:20250529T100000
DTSTAMP:20260420T215859
CREATED:20250508T190813Z
LAST-MODIFIED:20250508T190814Z
UID:10000130-1748509200-1748512800@forsythworksnc.com
SUMMARY:Forsyth Works Job Seeker Resource Group
DESCRIPTION:Looking for a new job or changing careers can be a challenging and time-consuming experience. It requires resilience and staying optimistic. Investing time in your job search that connects with opportunities and shortens the amount of time it takes to land your next opportunity is the ultimate goal. \n\n\n\nThe Forsyth Works Job Seeker Resource Group is a quarterly meet up with the purpose of providing job seekers support through their search and career changes. Meetings offer attendees the chance to share their experiences\, network\, receive advice\, and information that will support their job search and career development.  \n\n\n\n*Please note that registration information and discussions during meetings are confidential.  \n\n\n\n\n\nSee Events Information
URL:https://forsythworksnc.com/event/forsyth-works-job-seeker-resource-group-3/
LOCATION:Virtual\, Virtual
CATEGORIES:For Employers,Information Session
ATTACH;FMTTYPE=image/png:https://forsythworksnc.com/wp-content/uploads/2025/02/1.png
END:VEVENT
BEGIN:VEVENT
DTSTART;TZID=UTC:20250529T113000
DTEND;TZID=UTC:20250529T123000
DTSTAMP:20260420T215859
CREATED:20250429T141942Z
LAST-MODIFIED:20250429T141943Z
UID:10000129-1748518200-1748521800@forsythworksnc.com
SUMMARY:Borrowing for Small Businesses
DESCRIPTION:Learn why businesses borrow\, how to find funding\, and how the lending process works to find solutions that work for you. Other basics of borrowing\, like homeownership\, are included. \n\n\n\nThis is one of three workshops designed to help you gain valuable knowledge for success in personal and business finances. Attend all or choose which sessions are right for you. \n\n\n\nInstruction provided by Truist. Lunch is provided at each workshop. \n\n\n\n\n\nSee Events Information
URL:https://forsythworksnc.com/event/borrowing-for-small-businesses/
LOCATION:Greater Winston-Salem Inc.\, 525 Vine Street Suite 240\, Winston-Salem\, NC\, 27101\, United States
CATEGORIES:Career Skills,For Employers,Information Session
ATTACH;FMTTYPE=image/png:https://forsythworksnc.com/wp-content/uploads/2025/04/Financial-Series.png
END:VEVENT
END:VCALENDAR