BEGIN:VCALENDAR
VERSION:2.0
PRODID:-//Forsyth Works - ECPv6.15.20//NONSGML v1.0//EN
CALSCALE:GREGORIAN
METHOD:PUBLISH
X-WR-CALNAME:Forsyth Works
X-ORIGINAL-URL:https://forsythworksnc.com
X-WR-CALDESC:Events for Forsyth Works
REFRESH-INTERVAL;VALUE=DURATION:PT1H
X-Robots-Tag:noindex
X-PUBLISHED-TTL:PT1H
BEGIN:VTIMEZONE
TZID:UTC
BEGIN:STANDARD
TZOFFSETFROM:+0000
TZOFFSETTO:+0000
TZNAME:UTC
DTSTART:20240101T000000
END:STANDARD
END:VTIMEZONE
BEGIN:VEVENT
DTSTART;TZID=UTC:20250925T173000
DTEND;TZID=UTC:20250925T190000
DTSTAMP:20260420T180055
CREATED:20250915T175138Z
LAST-MODIFIED:20250915T175140Z
UID:10000163-1758821400-1758826800@forsythworksnc.com
SUMMARY:Becoming a Forsyth County Tri-Share Child Care Provider
DESCRIPTION:Forsyth County announces the Tri-Share Child Care Program through a public-private partnership! This innovative initiative allows childcare costs to be shared by the employer\, the employee\, and the State\, making quality childcare more accessible and affordable for working families. \n\n\n\nWe will be hosting our first introduction and recruitment meeting to share details about the program\, answer questions\, and invite local businesses to get involved in cost-sharing for childcare services. \n\n\n\n📅 Date: Thursday\, September 25\, 2025🕠 Time: 5:30 PM – 7:00 PM📍 Location: Smart Start of Forsyth County7820 North Point Blvd.\, Ste. 200Winston Salem\, NC 27106 \n\n\n\n\n\nRegistration
URL:https://forsythworksnc.com/event/becoming-a-forsyth-county-tri-share-child-care-provider/
LOCATION:NC
CATEGORIES:For Employers,Information Session
ATTACH;FMTTYPE=image/png:https://forsythworksnc.com/wp-content/uploads/2025/09/Screenshot-2025-09-15-at-1.51.10-PM.png
END:VEVENT
END:VCALENDAR