BEGIN:VCALENDAR
VERSION:2.0
PRODID:-//Forsyth Works - ECPv6.15.20//NONSGML v1.0//EN
CALSCALE:GREGORIAN
METHOD:PUBLISH
X-ORIGINAL-URL:https://forsythworksnc.com
X-WR-CALDESC:Events for Forsyth Works
REFRESH-INTERVAL;VALUE=DURATION:PT1H
X-Robots-Tag:noindex
X-PUBLISHED-TTL:PT1H
BEGIN:VTIMEZONE
TZID:UTC
BEGIN:STANDARD
TZOFFSETFROM:+0000
TZOFFSETTO:+0000
TZNAME:UTC
DTSTART:20240101T000000
END:STANDARD
END:VTIMEZONE
BEGIN:VEVENT
DTSTART;TZID=UTC:20251119T100000
DTEND;TZID=UTC:20251119T140000
DTSTAMP:20260423T223648
CREATED:20250106T193957Z
LAST-MODIFIED:20250724T150508Z
UID:10000147-1763546400-1763560800@forsythworksnc.com
SUMMARY:Workforce Wednesdays
DESCRIPTION:What: Tabling event for employers to meet students in a high-traffic area on Forsyth Tech’s main campus \n\n\n\nDate: Each Wednesday of the Fall & Spring semesters\, beginning August 27th \n\n\n\nTime: 10 AM – 2 PM \n\n\n\nLocation: Robert L. Strickland Center lobby \n\n\n\nParticipation Fee: $25 per visit (two visits maximum per semester).  This fee will be used to buy snacks for the students\, encouraging their attendance and making the event more enjoyable for everyone. \n\n\n\nTo reserve your spot(s) for Workforce Wednesdays\, please visit Career Hub by Symplicity. Spaces are limited to 6 employers each Wednesday\, so we encourage you to secure your spot(s) early. \n\n\n\nAdditionally\, we ask that you provide as much detail as possible about your company and current job openings in your registration. This information will be shared with our students in advance\, helping them to identify employers that align with their career interests. \n\n\n\nWe encourage you to participate so you can connect with our students seeking employment opportunities\, showcase your organization’s brand and career/internship opportunities\, and demonstrate your commitment to supporting local education and workforce development initiatives. \n\n\n\n\n\nRegister
URL:https://forsythworksnc.com/event/workforce-wednesdays-3/2025-11-19/
LOCATION:Forsyth Tech Robert L. Strickland Center\, 1615 Miller Street\, Winston-Salem\, NC\, 27103
CATEGORIES:For Employers
ATTACH;FMTTYPE=image/png:https://forsythworksnc.com/wp-content/uploads/2024/07/Screenshot-2024-07-31-at-9.36.45 AM.png
END:VEVENT
BEGIN:VEVENT
DTSTART;TZID=UTC:20251120T083000
DTEND;TZID=UTC:20251120T093000
DTSTAMP:20260423T223648
CREATED:20251029T170058Z
LAST-MODIFIED:20251029T170059Z
UID:10000165-1763627400-1763631000@forsythworksnc.com
SUMMARY:Forsyth Works Job Seeker Resource Group
DESCRIPTION:Looking for a new job or changing careers can be a challenging and time-consuming experience. It requires resilience and staying optimistic. Investing time in your job search that connects with opportunities and shortens the amount of time it takes to land your next opportunity is the ultimate goal. \n\n\n\nThe Forsyth Works Job Seeker Resource Group is a quarterly meet up with the purpose of providing job seekers support through their search and career changes. Meetings offer attendees the chance to share their experiences\, network\, receive advice\, and information that will support their job search and career development.  \n\n\n\n*Please note that registration information and discussions during meetings are confidential.  \n\n\n\n\n\nSee Events Information
URL:https://forsythworksnc.com/event/forsyth-works-job-seeker-resource-group-4/
LOCATION:Virtual\, Virtual
CATEGORIES:For Employers,Information Session
ATTACH;FMTTYPE=image/png:https://forsythworksnc.com/wp-content/uploads/2025/02/1.png
END:VEVENT
BEGIN:VEVENT
DTSTART;TZID=UTC:20251203T100000
DTEND;TZID=UTC:20251203T140000
DTSTAMP:20260423T223648
CREATED:20250106T193957Z
LAST-MODIFIED:20250724T150508Z
UID:10000149-1764756000-1764770400@forsythworksnc.com
SUMMARY:Workforce Wednesdays
DESCRIPTION:What: Tabling event for employers to meet students in a high-traffic area on Forsyth Tech’s main campus \n\n\n\nDate: Each Wednesday of the Fall & Spring semesters\, beginning August 27th \n\n\n\nTime: 10 AM – 2 PM \n\n\n\nLocation: Robert L. Strickland Center lobby \n\n\n\nParticipation Fee: $25 per visit (two visits maximum per semester).  This fee will be used to buy snacks for the students\, encouraging their attendance and making the event more enjoyable for everyone. \n\n\n\nTo reserve your spot(s) for Workforce Wednesdays\, please visit Career Hub by Symplicity. Spaces are limited to 6 employers each Wednesday\, so we encourage you to secure your spot(s) early. \n\n\n\nAdditionally\, we ask that you provide as much detail as possible about your company and current job openings in your registration. This information will be shared with our students in advance\, helping them to identify employers that align with their career interests. \n\n\n\nWe encourage you to participate so you can connect with our students seeking employment opportunities\, showcase your organization’s brand and career/internship opportunities\, and demonstrate your commitment to supporting local education and workforce development initiatives. \n\n\n\n\n\nRegister
URL:https://forsythworksnc.com/event/workforce-wednesdays-3/2025-12-03/
LOCATION:Forsyth Tech Robert L. Strickland Center\, 1615 Miller Street\, Winston-Salem\, NC\, 27103
CATEGORIES:For Employers
ATTACH;FMTTYPE=image/png:https://forsythworksnc.com/wp-content/uploads/2024/07/Screenshot-2024-07-31-at-9.36.45 AM.png
END:VEVENT
BEGIN:VEVENT
DTSTART;TZID=UTC:20251203T113000
DTEND;TZID=UTC:20251203T130000
DTSTAMP:20260423T223648
CREATED:20251029T165939Z
LAST-MODIFIED:20251029T165940Z
UID:10000164-1764761400-1764766800@forsythworksnc.com
SUMMARY:Building Meaningful Relationships Through Professional Networking
DESCRIPTION:Join us to build meaningful connections through professional networking! Growing your network in size contributes to the diversity of knowledge\, skills\, and abilities of those you are connected to. At the same time\, it is important to build a network with intention and purpose. The relationships you build through networking come in handy when you need expertise\, mentorship\, and support with planned or unexpected changes in work and career. Equally important is that you can be that connection for others. \n\n\n\nThis workshop will begin with a presentation focused on foundational networking practices to build meaningful connections in person and in the digital world. We will wrap up the workshop with an opportunity for you to put your new knowledge and skills to use with an in-person networking lunch. \n\n\n\nLunch is provided. We look forward to seeing you there and becoming a valued member of your professional network! \n\n\n\n\n\nSee Events Information
URL:https://forsythworksnc.com/event/building-meaningful-relationships-through-professional-networking-3/
LOCATION:Greater Winston-Salem Inc.\, 525 Vine Street Suite 240\, Winston-Salem\, NC\, 27101\, United States
CATEGORIES:Career Skills,Information Session
ATTACH;FMTTYPE=image/png:https://forsythworksnc.com/wp-content/uploads/2025/02/2.png
END:VEVENT
BEGIN:VEVENT
DTSTART;TZID=UTC:20251210T100000
DTEND;TZID=UTC:20251210T140000
DTSTAMP:20260423T223648
CREATED:20250106T193957Z
LAST-MODIFIED:20250724T150508Z
UID:10000151-1765360800-1765375200@forsythworksnc.com
SUMMARY:Workforce Wednesdays
DESCRIPTION:What: Tabling event for employers to meet students in a high-traffic area on Forsyth Tech’s main campus \n\n\n\nDate: Each Wednesday of the Fall & Spring semesters\, beginning August 27th \n\n\n\nTime: 10 AM – 2 PM \n\n\n\nLocation: Robert L. Strickland Center lobby \n\n\n\nParticipation Fee: $25 per visit (two visits maximum per semester).  This fee will be used to buy snacks for the students\, encouraging their attendance and making the event more enjoyable for everyone. \n\n\n\nTo reserve your spot(s) for Workforce Wednesdays\, please visit Career Hub by Symplicity. Spaces are limited to 6 employers each Wednesday\, so we encourage you to secure your spot(s) early. \n\n\n\nAdditionally\, we ask that you provide as much detail as possible about your company and current job openings in your registration. This information will be shared with our students in advance\, helping them to identify employers that align with their career interests. \n\n\n\nWe encourage you to participate so you can connect with our students seeking employment opportunities\, showcase your organization’s brand and career/internship opportunities\, and demonstrate your commitment to supporting local education and workforce development initiatives. \n\n\n\n\n\nRegister
URL:https://forsythworksnc.com/event/workforce-wednesdays-3/2025-12-10/
LOCATION:Forsyth Tech Robert L. Strickland Center\, 1615 Miller Street\, Winston-Salem\, NC\, 27103
CATEGORIES:For Employers
ATTACH;FMTTYPE=image/png:https://forsythworksnc.com/wp-content/uploads/2024/07/Screenshot-2024-07-31-at-9.36.45 AM.png
END:VEVENT
BEGIN:VEVENT
DTSTART;TZID=UTC:20251217T100000
DTEND;TZID=UTC:20251217T140000
DTSTAMP:20260423T223648
CREATED:20250106T193957Z
LAST-MODIFIED:20250724T150508Z
UID:10000152-1765965600-1765980000@forsythworksnc.com
SUMMARY:Workforce Wednesdays
DESCRIPTION:What: Tabling event for employers to meet students in a high-traffic area on Forsyth Tech’s main campus \n\n\n\nDate: Each Wednesday of the Fall & Spring semesters\, beginning August 27th \n\n\n\nTime: 10 AM – 2 PM \n\n\n\nLocation: Robert L. Strickland Center lobby \n\n\n\nParticipation Fee: $25 per visit (two visits maximum per semester).  This fee will be used to buy snacks for the students\, encouraging their attendance and making the event more enjoyable for everyone. \n\n\n\nTo reserve your spot(s) for Workforce Wednesdays\, please visit Career Hub by Symplicity. Spaces are limited to 6 employers each Wednesday\, so we encourage you to secure your spot(s) early. \n\n\n\nAdditionally\, we ask that you provide as much detail as possible about your company and current job openings in your registration. This information will be shared with our students in advance\, helping them to identify employers that align with their career interests. \n\n\n\nWe encourage you to participate so you can connect with our students seeking employment opportunities\, showcase your organization’s brand and career/internship opportunities\, and demonstrate your commitment to supporting local education and workforce development initiatives. \n\n\n\n\n\nRegister
URL:https://forsythworksnc.com/event/workforce-wednesdays-3/2025-12-17/
LOCATION:Forsyth Tech Robert L. Strickland Center\, 1615 Miller Street\, Winston-Salem\, NC\, 27103
CATEGORIES:For Employers
ATTACH;FMTTYPE=image/png:https://forsythworksnc.com/wp-content/uploads/2024/07/Screenshot-2024-07-31-at-9.36.45 AM.png
END:VEVENT
BEGIN:VEVENT
DTSTART;TZID=UTC:20260119T100000
DTEND;TZID=UTC:20260130T140000
DTSTAMP:20260423T223648
CREATED:20260116T142502Z
LAST-MODIFIED:20260116T142503Z
UID:10000171-1768816800-1769781600@forsythworksnc.com
SUMMARY:Students@Work Hosting Opportunity
DESCRIPTION:For the Student @ Work program\, businesses will be asked to host a WS/FCS student for approximately four hours to provide a job-shadowing experience. This experience is designed to expose students to the daily responsibilities and work environment of a specific career. All students will be required to remain at their designated drop-off location. \n\n\n\nProgram Timeline:• January: Business recruitment• February: Students will apply for job-shadowing opportunities\, similar to a real job application process. Shadowing dates will be selected during this time.• March: Students participate in job-shadowing experiences \n\n\n\n\n\nSee Events Information
URL:https://forsythworksnc.com/event/studentswork-hosting-opportunity/
LOCATION:NC
CATEGORIES:For Employers
ATTACH;FMTTYPE=image/png:https://forsythworksnc.com/wp-content/uploads/2026/01/Screenshot-2026-01-16-at-9.24.15-AM.png
END:VEVENT
BEGIN:VEVENT
DTSTART;TZID=UTC:20260212T090000
DTEND;TZID=UTC:20260212T100000
DTSTAMP:20260423T223648
CREATED:20260120T184046Z
LAST-MODIFIED:20260120T184047Z
UID:10000173-1770886800-1770890400@forsythworksnc.com
SUMMARY:Forsyth Works Job Seeker Resource Group
DESCRIPTION:Looking for a new job or changing careers can be a challenging and time-consuming experience. It requires resilience and staying optimistic. Investing time in your job search that connects with opportunities and shortens the amount of time it takes to land your next opportunity is the ultimate goal. \n\n\n\nThe Forsyth Works Job Seeker Resource Group is a quarterly meet up with the purpose of providing job seekers support through their search and career changes. Meetings offer attendees the chance to share their experiences\, network\, receive advice\, and information that will support their job search and career development.  \n\n\n\n*Please note that registration information and discussions during meetings are confidential.  \n\n\n\n\n\nSee Events Information
URL:https://forsythworksnc.com/event/forsyth-works-job-seeker-resource-group-5/
LOCATION:Virtual\, Virtual
CATEGORIES:For Employers,Information Session
ATTACH;FMTTYPE=image/png:https://forsythworksnc.com/wp-content/uploads/2025/02/1.png
END:VEVENT
BEGIN:VEVENT
DTSTART;TZID=UTC:20260219T163000
DTEND;TZID=UTC:20260219T180000
DTSTAMP:20260423T223648
CREATED:20260120T184340Z
LAST-MODIFIED:20260120T184341Z
UID:10000174-1771518600-1771524000@forsythworksnc.com
SUMMARY:Workplace Improv: Real Fun\, Serious Skills
DESCRIPTION:Improv is one of the hottest (and most fun) ways to build personal and professional skills. This interactive\, on-your-feet workshop blends play with purpose\, using laughter and games to strengthen communication\, collaboration\, creativity\, decision-making\, and leadership. Participants practice active listening\, navigating challenges\, and working with diverse personalities\, all while building confidence\, community\, and a deeper appreciation for what they bring to the table. The result? Memorable a-ha moments and practical takeaways you can immediately apply in all areas of your life. \n\n\n\nLed by wife-and-husband duo Saya Hillman and Pete Aiello of Mac & Cheese Productions℠\, this zero-experience-required workshop offers a welcoming space where curiosity and fun lead the way. With over 20 years of improv and teaching experience\, nationally recognized speaking and coaching credentials\, and clients ranging from Microsoft and Feeding America to universities and hospitals across the country\, Saya and Pete know how to make growth feel accessible and energizing.  \n\n\n\nThis workshop is designed for professionals and teams from local businesses who want to strengthen skills\, collaboration\, and performance in the workplace. \n\n\n\nThe event will wrap up with a brief networking happy hour. Make sure to wear comfortable clothes and shoes and bring your “I’ll try it” attitude. \n\n\n\n\n\nSee Events Information
URL:https://forsythworksnc.com/event/workplace-improv-real-fun-serious-skills/
LOCATION:Greater Winston-Salem Inc.\, 525 Vine Street Suite 240\, Winston-Salem\, NC\, 27101\, United States
CATEGORIES:Career Skills,Information Session
ATTACH;FMTTYPE=image/png:https://forsythworksnc.com/wp-content/uploads/2026/01/Improv-Workshop.png
END:VEVENT
BEGIN:VEVENT
DTSTART;TZID=UTC:20260325T110000
DTEND;TZID=UTC:20260325T140000
DTSTAMP:20260423T223648
CREATED:20260114T180725Z
LAST-MODIFIED:20260114T181039Z
UID:10000166-1774436400-1774447200@forsythworksnc.com
SUMMARY:Forsyth Tech Health Sciences Career Fair
DESCRIPTION:Registration is now open for all five of Forsyth Tech’s Spring 2026 Career Fairs! We invite you to join us on campus to connect with our students and highlight your organization’s opportunities. \n\n\n\n\n\nSee Events Information
URL:https://forsythworksnc.com/event/forsyth-tech-health-sciences-career-fair/
LOCATION:Forsyth Tech\, 2100 Silas Creek Parkway\, Winston-Salem\, North Carolina\, 27103\, United States
CATEGORIES:For Employers
ATTACH;FMTTYPE=image/png:https://forsythworksnc.com/wp-content/uploads/2025/01/Forsyth-Tech.png
END:VEVENT
BEGIN:VEVENT
DTSTART;TZID=UTC:20260331T113000
DTEND;TZID=UTC:20260331T130000
DTSTAMP:20260423T223648
CREATED:20260120T183941Z
LAST-MODIFIED:20260120T183942Z
UID:10000172-1774956600-1774962000@forsythworksnc.com
SUMMARY:Building Meaningful Relationships Through Professional Networking
DESCRIPTION:Join us to build meaningful connections through professional networking! Growing your network in size contributes to the diversity of knowledge\, skills\, and abilities of those you are connected to. At the same time\, it is important to build a network with intention and purpose. The relationships you build through networking come in handy when you need expertise\, mentorship\, and support with planned or unexpected changes in work and career. Equally important is that you can be that connection for others. \n\n\n\nThis workshop will begin with a presentation focused on foundational networking practices to build meaningful connections in person and in the digital world. We will wrap up the workshop with an opportunity for you to put your new knowledge and skills to use with an in-person networking lunch. \n\n\n\nLunch is provided. We look forward to seeing you there and becoming a valued member of your professional network! \n\n\n\n\n\nSee Events Information
URL:https://forsythworksnc.com/event/building-meaningful-relationships-through-professional-networking-4/
LOCATION:Greater Winston-Salem Inc.\, 525 Vine Street Suite 240\, Winston-Salem\, NC\, 27101\, United States
CATEGORIES:Career Skills,Information Session
ATTACH;FMTTYPE=image/png:https://forsythworksnc.com/wp-content/uploads/2025/02/2.png
END:VEVENT
BEGIN:VEVENT
DTSTART;TZID=UTC:20260401T090000
DTEND;TZID=UTC:20260401T120000
DTSTAMP:20260423T223648
CREATED:20260114T181158Z
LAST-MODIFIED:20260114T181159Z
UID:10000167-1775034000-1775044800@forsythworksnc.com
SUMMARY:Forsyth Tech Construction Technologies Career Fair
DESCRIPTION:Registration is now open for all five of Forsyth Tech’s Spring 2026 Career Fairs! We invite you to join us on campus to connect with our students and highlight your organization’s opportunities. \n\n\n\n\n\nSee Events Information
URL:https://forsythworksnc.com/event/forsyth-tech-construction-technologies-career-fair/
LOCATION:Forsyth Tech\, 2100 Silas Creek Parkway\, Winston-Salem\, North Carolina\, 27103\, United States
CATEGORIES:For Employers
ATTACH;FMTTYPE=image/png:https://forsythworksnc.com/wp-content/uploads/2025/01/Forsyth-Tech.png
END:VEVENT
BEGIN:VEVENT
DTSTART;TZID=UTC:20260408T110000
DTEND;TZID=UTC:20260408T140000
DTSTAMP:20260423T223648
CREATED:20260114T181250Z
LAST-MODIFIED:20260114T181251Z
UID:10000168-1775646000-1775656800@forsythworksnc.com
SUMMARY:Forsyth Tech Business & IT Career Fair
DESCRIPTION:Registration is now open for all five of Forsyth Tech’s Spring 2026 Career Fairs! We invite you to join us on campus to connect with our students and highlight your organization’s opportunities. \n\n\n\n\n\nSee Events Information
URL:https://forsythworksnc.com/event/forsyth-tech-business-it-career-fair/
LOCATION:Forsyth Tech\, 2100 Silas Creek Parkway\, Winston-Salem\, North Carolina\, 27103\, United States
CATEGORIES:For Employers
ATTACH;FMTTYPE=image/png:https://forsythworksnc.com/wp-content/uploads/2025/01/Forsyth-Tech.png
END:VEVENT
BEGIN:VEVENT
DTSTART;TZID=UTC:20260410T090000
DTEND;TZID=UTC:20260410T130000
DTSTAMP:20260423T223648
CREATED:20260317T195956Z
LAST-MODIFIED:20260317T195957Z
UID:10000175-1775811600-1775826000@forsythworksnc.com
SUMMARY:WS/FCS Graduating Senior Hiring Fair
DESCRIPTION:Winston-Salem/Forsyth County Schools Career and Technical Education (CTE) would liketo invite you to participate in our upcoming Graduating Seniors Hiring Fair.This event is designed as a floating hiring fair specifically for graduating seniors who areplanning to enter the workforce in our community. Students will have the opportunity tomeet directly with local employers\, learn about available positions\, and potentiallyinterview for immediate employment opportunities.We are seeking business and industry partners who are interested in connecting withmotivated\, workforce-ready graduates. Your participation helps provide students withmeaningful employment pathways while supporting local workforce needs. \n\n\n\n\n\nSee Events Information
URL:https://forsythworksnc.com/event/ws-fcs-graduating-senior-hiring-fair/
LOCATION:Mazie Woodruff Aviation Technology Center\, 2739 Aviation Dr\, Winston-Salem\, North Carolina\, 27105\, United States
CATEGORIES:For Employers
ATTACH;FMTTYPE=image/png:https://forsythworksnc.com/wp-content/uploads/2026/03/Hiring-Fair-Full-Size-Facebook-Post-1-1.png
END:VEVENT
BEGIN:VEVENT
DTSTART;TZID=UTC:20260415T100000
DTEND;TZID=UTC:20260415T130000
DTSTAMP:20260423T223648
CREATED:20260114T181329Z
LAST-MODIFIED:20260114T181330Z
UID:10000169-1776247200-1776258000@forsythworksnc.com
SUMMARY:Forsyth Tech Public Safety Career Fair
DESCRIPTION:Registration is now open for all five of Forsyth Tech’s Spring 2026 Career Fairs! We invite you to join us on campus to connect with our students and highlight your organization’s opportunities. \n\n\n\n\n\nSee Events Information
URL:https://forsythworksnc.com/event/forsyth-tech-public-safety-career-fair/
LOCATION:Forsyth Tech\, 2100 Silas Creek Parkway\, Winston-Salem\, North Carolina\, 27103\, United States
CATEGORIES:For Employers
ATTACH;FMTTYPE=image/png:https://forsythworksnc.com/wp-content/uploads/2025/01/Forsyth-Tech.png
END:VEVENT
BEGIN:VEVENT
DTSTART;TZID=UTC:20260422T100000
DTEND;TZID=UTC:20260422T140000
DTSTAMP:20260423T223648
CREATED:20260114T181411Z
LAST-MODIFIED:20260114T181412Z
UID:10000170-1776852000-1776866400@forsythworksnc.com
SUMMARY:Forsyth Tech Transportation Technology Career Fair
DESCRIPTION:Registration is now open for all five of Forsyth Tech’s Spring 2026 Career Fairs! We invite you to join us on campus to connect with our students and highlight your organization’s opportunities. \n\n\n\n\n\nSee Events Information
URL:https://forsythworksnc.com/event/forsyth-tech-transportation-technology-career-fair/
LOCATION:Forsyth Tech\, 2100 Silas Creek Parkway\, Winston-Salem\, North Carolina\, 27103\, United States
CATEGORIES:For Employers
ATTACH;FMTTYPE=image/png:https://forsythworksnc.com/wp-content/uploads/2025/01/Forsyth-Tech.png
END:VEVENT
BEGIN:VEVENT
DTSTART;TZID=UTC:20260507T160000
DTEND;TZID=UTC:20260507T183000
DTSTAMP:20260423T223648
CREATED:20260415T143136Z
LAST-MODIFIED:20260415T143138Z
UID:10000177-1778169600-1778178600@forsythworksnc.com
SUMMARY:Small Business Resource Fair
DESCRIPTION:Join Forsyth Works\, Greater Winston-Salem Inc.\, and Forsyth Tech’s Small Business Center as we celebrate National Small Business Week! The celebration kicks off with a Small Business Resource Fair\, designed specifically for small business owners\, entrepreneurs\, and anyone looking to start or grow a business in Forsyth County. \n\n\n\nConnect with a variety of local organizations offering valuable resources\, expert guidance\, and networking opportunities to support your business journey. Whether you’re seeking technical assistance\, workforce support\, or new partnerships\, this event brings together the tools and connections you need to thrive. \n\n\n\nThe resource fair runs from 4:00–5:45 PM\, followed by a cocktail and networking hour from 5:45–6:30 PM—providing additional time to build relationships and engage with fellow business leaders and resource providers. \n\n\n\n\n\nSee Events Information
URL:https://forsythworksnc.com/event/small-business-resource-fair/
LOCATION:Greater Winston-Salem Inc.\, 525 Vine Street Suite 240\, Winston-Salem\, NC\, 27101\, United States
CATEGORIES:Career Skills,Information Session
ATTACH;FMTTYPE=image/png:https://forsythworksnc.com/wp-content/uploads/2026/04/SB-Fair.png
END:VEVENT
BEGIN:VEVENT
DTSTART;TZID=UTC:20260519T090000
DTEND;TZID=UTC:20260519T100000
DTSTAMP:20260423T223648
CREATED:20260415T142904Z
LAST-MODIFIED:20260415T142907Z
UID:10000176-1779181200-1779184800@forsythworksnc.com
SUMMARY:Leveraging AI in the Job Search
DESCRIPTION:Artificial Intelligence (AI) technology is becoming increasingly popular and accessible\, including during the job search. Job seekers can leverage AI tools to enhance or perform numerous tasks that at one time could only be achieved manually. While many have started to embrace AI\, others continue to be curious and even a bit hesitant to incorporate this new technology into the job search and career development. \n\n\n\nJoin Beth Mitchell\, Career Services Director at Forsyth Technical Community College\, for an innovative discussion on leveraging AI technology in the job search\, including the advantages and drawbacks of utilizing AI\, strategies to optimize your resume\, interview skills\, job alignment\, and more all using this revolutionary technology. \n\n\n\nA Teams link will be emailed to registrants prior to the workshop. \n\n\n\n\n\nSee Events Information
URL:https://forsythworksnc.com/event/leveraging-ai-in-the-job-search/
LOCATION:Virtual\, Virtual
CATEGORIES:For Employers,Information Session
ATTACH;FMTTYPE=image/png:https://forsythworksnc.com/wp-content/uploads/2026/04/AI-Job-Search.png
END:VEVENT
BEGIN:VEVENT
DTSTART;TZID=UTC:20260527T113000
DTEND;TZID=UTC:20260527T130000
DTSTAMP:20260423T223648
CREATED:20260416T170506Z
LAST-MODIFIED:20260416T170508Z
UID:10000178-1779881400-1779886800@forsythworksnc.com
SUMMARY:The Intersection - Unlock the Power of High-Performing Teams
DESCRIPTION:Great teams don’t happen by accident – they are built with intention. Communication breakdowns\, unclear priorities\, and misalignment can prevent even the most talented teams from performing at their best. \n\n\n\nIn this interactive workshop\, The Intersection will introduce our Team Performance Framework (TPF)\, offering leaders a proven framework to strengthen collaboration\, increase engagement\, and unlock stronger team performance. \n\n\n\nThe Team Performance Framework (TPF) is The Intersection’s signature approach to helping organizations strengthen team effectiveness. \n\n\n\nRather than a one-size-fits-all model\, TPF provides a structured approach to: \n\n\n\nAssess – Understand team dynamics\, strengths\, and opportunitiesAlign – Create clarity around goals\, roles\, and expectationsActivate – Implement strategies that drive lasting performance \n\n\n\nThe result: stronger teams\, better outcomes\, and healthier organizations.  You will leave this session with practical insights and real tools that lead to immediate impact. \n\n\n\nWho Should Attend \n\n\n\nThis workshop is ideal for: \n\n\n\n• Business leaders and executives• Team leaders and managers• HR and organizational development professionals• Anyone responsible for leading or developing teams \n\n\n\nAbout The Intersection \n\n\n\nThe Intersection brings together more than 75 years of leadership and organizational development experience. Our work helps individuals\, teams\, and organizations unlock their full potential and achieve exceptional performance. Learn more about The Intersection here. \n\n\n\nLunch is provided. We look forward to welcoming The Intersection and seeing you at this event. Parking instructions will be emailed to registrants prior to the event. \n\n\n\nPlease note that Forsyth Works events may be photographed or recorded. By attending\, you grant permission for your image or likeness to be used in print and digital marketing materials for Greater Winston-Salem Inc. and Forsyth Works. \n\n\n\n\n\nSee Events Information
URL:https://forsythworksnc.com/event/the-intersection-unlock-the-power-of-high-performing-teams/
LOCATION:Greater Winston-Salem Inc.\, 525 Vine Street Suite 240\, Winston-Salem\, NC\, 27101\, United States
CATEGORIES:For Employers,Information Session
ATTACH;FMTTYPE=image/png:https://forsythworksnc.com/wp-content/uploads/2026/04/ARPA-March.png
END:VEVENT
END:VCALENDAR