BEGIN:VCALENDAR
VERSION:2.0
PRODID:-//Forsyth Works - ECPv6.15.20//NONSGML v1.0//EN
CALSCALE:GREGORIAN
METHOD:PUBLISH
X-WR-CALNAME:Forsyth Works
X-ORIGINAL-URL:https://forsythworksnc.com
X-WR-CALDESC:Events for Forsyth Works
REFRESH-INTERVAL;VALUE=DURATION:PT1H
X-Robots-Tag:noindex
X-PUBLISHED-TTL:PT1H
BEGIN:VTIMEZONE
TZID:UTC
BEGIN:STANDARD
TZOFFSETFROM:+0000
TZOFFSETTO:+0000
TZNAME:UTC
DTSTART:20240101T000000
END:STANDARD
END:VTIMEZONE
BEGIN:VEVENT
DTSTART;TZID=UTC:20250203T073000
DTEND;TZID=UTC:20250203T153000
DTSTAMP:20260424T065200
CREATED:20250127T202239Z
LAST-MODIFIED:20250127T202240Z
UID:10000112-1738567800-1738596600@forsythworksnc.com
SUMMARY:WS/FCS Career Launch Lab
DESCRIPTION:We are excited to invite you to our monthly Career Launch Lab\, designed to help you make valuable career connections and enhance your job application materials for WS/FCS positions. \n\n\n\nHosted by Winston-Salem/Forsyth County Schools\, these sessions provide personalized assistance to help you advance your career. Our dedicated Human Resource Representatives will be available to support you with completing online applications\, crafting a new resume\, or refining an existing one. \n\n\n\nEvent Details: \n\n\n\nLocation: Technology Data Lab\, Administrative Building\, 475 Corporate Square Drive\, Winston-Salem\, NC 27105 \n\n\n\nDate: First Monday of every month \n\n\n\nTime: Drop in anytime between 7:30 AM and 3:30 PM
URL:https://forsythworksnc.com/event/ws-fcs-career-launch-lab/2025-02-03/
LOCATION:WS/FCS Administration Building\, 475 Corporate Square Drive\, Winston-Salem\, North Carolina\, 27105\, United States
CATEGORIES:Career Skills
ATTACH;FMTTYPE=image/png:https://forsythworksnc.com/wp-content/uploads/2025/01/Screenshot-2025-01-24-at-10.05.07 AM.png
END:VEVENT
BEGIN:VEVENT
DTSTART;TZID=UTC:20250204T100000
DTEND;TZID=UTC:20250204T120000
DTSTAMP:20260424T065200
CREATED:20250113T204150Z
LAST-MODIFIED:20250113T204151Z
UID:10000109-1738663200-1738670400@forsythworksnc.com
SUMMARY:WS/FCS Drive Your Future Career Fair
DESCRIPTION:Get ready to kickstart your career journey with Winston-Salem/Forsyth County Schools! 🚀 \n\n\n\nWinston-Salem/Forsyth County Schools is excited to be hosting our DRIVE Your Future – Transportation Hiring Event. This event is being held in-person\, on February 4th\, from 10am-12pm! Candidates will have the opportunity to chat with our Transportation Department Hiring Managers about positions such as Bus Drivers and Mechanics!
URL:https://forsythworksnc.com/event/ws-fcs-drive-your-future-career-fair/
LOCATION:WS/FCS Facilities Department\, 3810 N. Liberty Street\, Winston-Salem\, North Carolina\, 27105\, United States
CATEGORIES:Career Skills
ATTACH;FMTTYPE=image/png:https://forsythworksnc.com/wp-content/uploads/2025/01/Screenshot-2025-01-13-at-12.53.21 PM.png
END:VEVENT
BEGIN:VEVENT
DTSTART;TZID=UTC:20250227T100000
DTEND;TZID=UTC:20250227T113000
DTSTAMP:20260424T065201
CREATED:20250127T202804Z
LAST-MODIFIED:20250127T202805Z
UID:10000116-1740650400-1740655800@forsythworksnc.com
SUMMARY:Arts & Nonprofit Civil Rights Training for Leaders
DESCRIPTION:Join us for this 1.5 hour training to learn about the City of Winston-Salem’s non-discrimination ordinances and how they affect your responsibilities. By enrolling FREE\, each business/organization will receive: Certificate of Completion NDO Decal for public display\, Listing on the City’s NDO page
URL:https://forsythworksnc.com/event/arts-nonprofit-civil-rights-training-for-leaders/
LOCATION:WS Mixxer\, 1375 N Martin Luther King Jr Drive\, Winston-Salem\, North Carolina\, 27101\, United States
CATEGORIES:For Employers
ATTACH;FMTTYPE=image/png:https://forsythworksnc.com/wp-content/uploads/2025/01/Screenshot-2025-01-27-at-3.23.50 PM.png
END:VEVENT
END:VCALENDAR