BEGIN:VCALENDAR
VERSION:2.0
PRODID:-//Forsyth Works - ECPv6.15.20//NONSGML v1.0//EN
CALSCALE:GREGORIAN
METHOD:PUBLISH
X-ORIGINAL-URL:https://forsythworksnc.com
X-WR-CALDESC:Events for Forsyth Works
REFRESH-INTERVAL;VALUE=DURATION:PT1H
X-Robots-Tag:noindex
X-PUBLISHED-TTL:PT1H
BEGIN:VTIMEZONE
TZID:UTC
BEGIN:STANDARD
TZOFFSETFROM:+0000
TZOFFSETTO:+0000
TZNAME:UTC
DTSTART:20240101T000000
END:STANDARD
END:VTIMEZONE
BEGIN:VEVENT
DTSTART;TZID=UTC:20250814T180000
DTEND;TZID=UTC:20250814T193000
DTSTAMP:20260423T235622
CREATED:20250127T202945Z
LAST-MODIFIED:20250127T202946Z
UID:10000118-1755194400-1755199800@forsythworksnc.com
SUMMARY:Arts & Nonprofit Civil Rights Training for Leaders
DESCRIPTION:Join us for this 1.5 hour training to learn about the City of Winston-Salem’s non-discrimination ordinances and how they affect your responsibilities. By enrolling FREE\, each business/organization will receive: Certificate of Completion NDO Decal for public display\, Listing on the City’s NDO page
URL:https://forsythworksnc.com/event/arts-nonprofit-civil-rights-training-for-leaders-3/
LOCATION:WS Mixxer\, 1375 N Martin Luther King Jr Drive\, Winston-Salem\, North Carolina\, 27101\, United States
CATEGORIES:For Employers
ATTACH;FMTTYPE=image/png:https://forsythworksnc.com/wp-content/uploads/2025/01/Screenshot-2025-01-27-at-3.23.50 PM.png
END:VEVENT
BEGIN:VEVENT
DTSTART;TZID=UTC:20250821T113000
DTEND;TZID=UTC:20250821T130000
DTSTAMP:20260423T235622
CREATED:20250801T143058Z
LAST-MODIFIED:20250801T143059Z
UID:10000153-1755775800-1755781200@forsythworksnc.com
SUMMARY:Building Meaningful Relationships Through Professional Networking
DESCRIPTION:Join us to build meaningful connections through professional networking! Growing your network in size contributes to the diversity of knowledge\, skills\, and abilities of those you are connected to. At the same time\, it is important to build a network with intention and purpose. The relationships you build through networking come in handy when you need expertise\, mentorship\, and support with planned or unexpected changes in work and career. Equally important is that you can be that connection for others. \n\n\n\nThis workshop will begin with a presentation focused on foundational networking practices to build meaningful connections in person and in the digital world. We will wrap up the workshop with an opportunity for you to put your new knowledge and skills to use with an in-person networking lunch. \n\n\n\nLunch is provided. We look forward to seeing you there and becoming a valued member of your professional network! \n\n\n\n\n\nSee Events Information
URL:https://forsythworksnc.com/event/building-meaningful-relationships-through-professional-networking-2/
LOCATION:Greater Winston-Salem Inc.\, 525 Vine Street Suite 240\, Winston-Salem\, NC\, 27101\, United States
CATEGORIES:Career Skills,Information Session
ATTACH;FMTTYPE=image/png:https://forsythworksnc.com/wp-content/uploads/2025/02/2.png
END:VEVENT
BEGIN:VEVENT
DTSTART;TZID=UTC:20250827T100000
DTEND;TZID=UTC:20250827T140000
DTSTAMP:20260423T235622
CREATED:20250106T193957Z
LAST-MODIFIED:20250724T150508Z
UID:10000135-1756288800-1756303200@forsythworksnc.com
SUMMARY:Workforce Wednesdays
DESCRIPTION:What: Tabling event for employers to meet students in a high-traffic area on Forsyth Tech’s main campus \n\n\n\nDate: Each Wednesday of the Fall & Spring semesters\, beginning August 27th \n\n\n\nTime: 10 AM – 2 PM \n\n\n\nLocation: Robert L. Strickland Center lobby \n\n\n\nParticipation Fee: $25 per visit (two visits maximum per semester).  This fee will be used to buy snacks for the students\, encouraging their attendance and making the event more enjoyable for everyone. \n\n\n\nTo reserve your spot(s) for Workforce Wednesdays\, please visit Career Hub by Symplicity. Spaces are limited to 6 employers each Wednesday\, so we encourage you to secure your spot(s) early. \n\n\n\nAdditionally\, we ask that you provide as much detail as possible about your company and current job openings in your registration. This information will be shared with our students in advance\, helping them to identify employers that align with their career interests. \n\n\n\nWe encourage you to participate so you can connect with our students seeking employment opportunities\, showcase your organization’s brand and career/internship opportunities\, and demonstrate your commitment to supporting local education and workforce development initiatives. \n\n\n\n\n\nRegister
URL:https://forsythworksnc.com/event/workforce-wednesdays-3/2025-08-27/
LOCATION:Forsyth Tech Robert L. Strickland Center\, 1615 Miller Street\, Winston-Salem\, NC\, 27103
CATEGORIES:For Employers
ATTACH;FMTTYPE=image/png:https://forsythworksnc.com/wp-content/uploads/2024/07/Screenshot-2024-07-31-at-9.36.45 AM.png
END:VEVENT
END:VCALENDAR