BEGIN:VCALENDAR
VERSION:2.0
PRODID:-//Forsyth Works - ECPv6.15.20//NONSGML v1.0//EN
CALSCALE:GREGORIAN
METHOD:PUBLISH
X-ORIGINAL-URL:https://forsythworksnc.com
X-WR-CALDESC:Events for Forsyth Works
REFRESH-INTERVAL;VALUE=DURATION:PT1H
X-Robots-Tag:noindex
X-PUBLISHED-TTL:PT1H
BEGIN:VTIMEZONE
TZID:UTC
BEGIN:STANDARD
TZOFFSETFROM:+0000
TZOFFSETTO:+0000
TZNAME:UTC
DTSTART:20240101T000000
END:STANDARD
END:VTIMEZONE
BEGIN:VEVENT
DTSTART;TZID=UTC:20251001T100000
DTEND;TZID=UTC:20251001T140000
DTSTAMP:20260423T210951
CREATED:20250106T193957Z
LAST-MODIFIED:20250724T150508Z
UID:10000140-1759312800-1759327200@forsythworksnc.com
SUMMARY:Workforce Wednesdays
DESCRIPTION:What: Tabling event for employers to meet students in a high-traffic area on Forsyth Tech’s main campus \n\n\n\nDate: Each Wednesday of the Fall & Spring semesters\, beginning August 27th \n\n\n\nTime: 10 AM – 2 PM \n\n\n\nLocation: Robert L. Strickland Center lobby \n\n\n\nParticipation Fee: $25 per visit (two visits maximum per semester).  This fee will be used to buy snacks for the students\, encouraging their attendance and making the event more enjoyable for everyone. \n\n\n\nTo reserve your spot(s) for Workforce Wednesdays\, please visit Career Hub by Symplicity. Spaces are limited to 6 employers each Wednesday\, so we encourage you to secure your spot(s) early. \n\n\n\nAdditionally\, we ask that you provide as much detail as possible about your company and current job openings in your registration. This information will be shared with our students in advance\, helping them to identify employers that align with their career interests. \n\n\n\nWe encourage you to participate so you can connect with our students seeking employment opportunities\, showcase your organization’s brand and career/internship opportunities\, and demonstrate your commitment to supporting local education and workforce development initiatives. \n\n\n\n\n\nRegister
URL:https://forsythworksnc.com/event/workforce-wednesdays-3/2025-10-01/
LOCATION:Forsyth Tech Robert L. Strickland Center\, 1615 Miller Street\, Winston-Salem\, NC\, 27103
CATEGORIES:For Employers
ATTACH;FMTTYPE=image/png:https://forsythworksnc.com/wp-content/uploads/2024/07/Screenshot-2024-07-31-at-9.36.45 AM.png
END:VEVENT
BEGIN:VEVENT
DTSTART;TZID=UTC:20251001T160000
DTEND;TZID=UTC:20251001T173000
DTSTAMP:20260423T210951
CREATED:20250804T201514Z
LAST-MODIFIED:20250804T201943Z
UID:10000154-1759334400-1759339800@forsythworksnc.com
SUMMARY:Job Ready: Skills for Success
DESCRIPTION:Are you ready to build the skills that set you up for success in your first job and beyond? Join Forsyth Works at your local public library for Job Ready: Skills for Success\, a free event designed to help teens and young adults gain confidence\, strengthen communication\, and learn what employers are really looking for. Whether you’re preparing for your first interview or just want to stand out in the workplace\, this workshop will give you the tools to take the next step with confidence. \n\n\n\n\n\nRegistration Not Required
URL:https://forsythworksnc.com/event/job-ready-skills-for-success/
LOCATION:Forsyth County Central Library\, 660 W 5th Street\, Winston-Salem\, North Carolina\, 27101\, United States
CATEGORIES:For Employers,Information Session
ATTACH;FMTTYPE=image/png:https://forsythworksnc.com/wp-content/uploads/2025/08/ARPA-March.png
END:VEVENT
BEGIN:VEVENT
DTSTART;TZID=UTC:20251006T000000
DTEND;TZID=UTC:20251010T235959
DTSTAMP:20260423T210951
CREATED:20250915T171817Z
LAST-MODIFIED:20250915T171818Z
UID:10000162-1759708800-1760140799@forsythworksnc.com
SUMMARY:Retail Tips for the Holiday Season
DESCRIPTION:The Forsyth Tech Small Business Center is hosting a concentrated week of holiday sales prep webinars and workshops to prepare businesses for the holiday season. Register to attend any and all of the following events:  \n\n\n\n10/7 – Selling Online: Building an ECommerce Business10/8 – Growing Your Sales with Shopify10/8 – Creating Content to Support Your Holiday Sales10/9 – Selling Products on Amazon & Etsy10/10- Building an Online Community \n\n\n\n\n\nSee Events Information
URL:https://forsythworksnc.com/event/retail-tips-for-the-holiday-season/
LOCATION:NC
CATEGORIES:Career Skills,Information Session
ATTACH;FMTTYPE=image/png:https://forsythworksnc.com/wp-content/uploads/2025/09/Screenshot-2025-09-15-at-1.09.42-PM.png
END:VEVENT
BEGIN:VEVENT
DTSTART;TZID=UTC:20251008T100000
DTEND;TZID=UTC:20251008T140000
DTSTAMP:20260423T210951
CREATED:20250106T193957Z
LAST-MODIFIED:20250724T150508Z
UID:10000141-1759917600-1759932000@forsythworksnc.com
SUMMARY:Workforce Wednesdays
DESCRIPTION:What: Tabling event for employers to meet students in a high-traffic area on Forsyth Tech’s main campus \n\n\n\nDate: Each Wednesday of the Fall & Spring semesters\, beginning August 27th \n\n\n\nTime: 10 AM – 2 PM \n\n\n\nLocation: Robert L. Strickland Center lobby \n\n\n\nParticipation Fee: $25 per visit (two visits maximum per semester).  This fee will be used to buy snacks for the students\, encouraging their attendance and making the event more enjoyable for everyone. \n\n\n\nTo reserve your spot(s) for Workforce Wednesdays\, please visit Career Hub by Symplicity. Spaces are limited to 6 employers each Wednesday\, so we encourage you to secure your spot(s) early. \n\n\n\nAdditionally\, we ask that you provide as much detail as possible about your company and current job openings in your registration. This information will be shared with our students in advance\, helping them to identify employers that align with their career interests. \n\n\n\nWe encourage you to participate so you can connect with our students seeking employment opportunities\, showcase your organization’s brand and career/internship opportunities\, and demonstrate your commitment to supporting local education and workforce development initiatives. \n\n\n\n\n\nRegister
URL:https://forsythworksnc.com/event/workforce-wednesdays-3/2025-10-08/
LOCATION:Forsyth Tech Robert L. Strickland Center\, 1615 Miller Street\, Winston-Salem\, NC\, 27103
CATEGORIES:For Employers
ATTACH;FMTTYPE=image/png:https://forsythworksnc.com/wp-content/uploads/2024/07/Screenshot-2024-07-31-at-9.36.45 AM.png
END:VEVENT
BEGIN:VEVENT
DTSTART;TZID=UTC:20251016T163000
DTEND;TZID=UTC:20251016T180000
DTSTAMP:20260423T210951
CREATED:20250804T201721Z
LAST-MODIFIED:20250804T201722Z
UID:10000155-1760632200-1760637600@forsythworksnc.com
SUMMARY:Job Ready: Skills for Success
DESCRIPTION:Are you ready to build the skills that set you up for success in your first job and beyond? Join Forsyth Works at your local public library for Job Ready: Skills for Success\, a free event designed to help teens and young adults gain confidence\, strengthen communication\, and learn what employers are really looking for. Whether you’re preparing for your first interview or just want to stand out in the workplace\, this workshop will give you the tools to take the next step with confidence. \n\n\n\n\n\nRegistration Not Required
URL:https://forsythworksnc.com/event/job-ready-skills-for-success-2/
LOCATION:Reynolda Manor Branch Library\, 2839 Fairlawn Dr.\, Winston-Salem\, North Carolina\, 27106\, United States
CATEGORIES:For Employers,Information Session
ATTACH;FMTTYPE=image/png:https://forsythworksnc.com/wp-content/uploads/2025/08/ARPA-March.png
END:VEVENT
BEGIN:VEVENT
DTSTART;TZID=UTC:20251022T080000
DTEND;TZID=UTC:20251022T160000
DTSTAMP:20260423T210951
CREATED:20250815T152405Z
LAST-MODIFIED:20250815T152426Z
UID:10000159-1761120000-1761148800@forsythworksnc.com
SUMMARY:World of Work
DESCRIPTION:This event will welcome more than 2\,500 Winston-Salem/Forsyth County 10th graders to explore career possibilities across a variety of industries. Students will have the opportunity to interact with businesses and educational institutions to learn more about the careers that interest them and how to get there.A networking breakfast and lunch will be available to participating business representatives. \n\n\n\n10th grader tours will take place 9:45am-1:00pm\, followed by a Community Career Fair from 2:00pm-4:30pm.  \n\n\n\n\n\nSee Events Information
URL:https://forsythworksnc.com/event/world-of-work-2/
LOCATION:NC
CATEGORIES:For Employers
ATTACH;FMTTYPE=image/png:https://forsythworksnc.com/wp-content/uploads/2025/08/WOW-2025.png
END:VEVENT
BEGIN:VEVENT
DTSTART;TZID=UTC:20251022T100000
DTEND;TZID=UTC:20251022T140000
DTSTAMP:20260423T210951
CREATED:20250106T193957Z
LAST-MODIFIED:20250724T150508Z
UID:10000143-1761127200-1761141600@forsythworksnc.com
SUMMARY:Workforce Wednesdays
DESCRIPTION:What: Tabling event for employers to meet students in a high-traffic area on Forsyth Tech’s main campus \n\n\n\nDate: Each Wednesday of the Fall & Spring semesters\, beginning August 27th \n\n\n\nTime: 10 AM – 2 PM \n\n\n\nLocation: Robert L. Strickland Center lobby \n\n\n\nParticipation Fee: $25 per visit (two visits maximum per semester).  This fee will be used to buy snacks for the students\, encouraging their attendance and making the event more enjoyable for everyone. \n\n\n\nTo reserve your spot(s) for Workforce Wednesdays\, please visit Career Hub by Symplicity. Spaces are limited to 6 employers each Wednesday\, so we encourage you to secure your spot(s) early. \n\n\n\nAdditionally\, we ask that you provide as much detail as possible about your company and current job openings in your registration. This information will be shared with our students in advance\, helping them to identify employers that align with their career interests. \n\n\n\nWe encourage you to participate so you can connect with our students seeking employment opportunities\, showcase your organization’s brand and career/internship opportunities\, and demonstrate your commitment to supporting local education and workforce development initiatives. \n\n\n\n\n\nRegister
URL:https://forsythworksnc.com/event/workforce-wednesdays-3/2025-10-22/
LOCATION:Forsyth Tech Robert L. Strickland Center\, 1615 Miller Street\, Winston-Salem\, NC\, 27103
CATEGORIES:For Employers
ATTACH;FMTTYPE=image/png:https://forsythworksnc.com/wp-content/uploads/2024/07/Screenshot-2024-07-31-at-9.36.45 AM.png
END:VEVENT
BEGIN:VEVENT
DTSTART;TZID=UTC:20251023T090000
DTEND;TZID=UTC:20251023T160000
DTSTAMP:20260423T210951
CREATED:20250804T202615Z
LAST-MODIFIED:20251006T145611Z
UID:10000157-1761210000-1761235200@forsythworksnc.com
SUMMARY:Employer of Choice Credential
DESCRIPTION:Become a Forsyth Works Employer of Choice to signal your commitment to create a thriving workplace. This designation helps your organization attract top talent\, boost retention\, and enhance your reputation as a great place to work in Forsyth County. \n\n\n\nThe 8-hour employer certification includes 5 modules to support employers in strengthening their workforce\, enhancing recruitment and retention efforts\, fostering an inclusive workplace culture\, and ensuring compliance with evolving employment standards. \n\n\n\nSessions Include: \n\n\n\n\nSkill-Based Hiring: A New Lens on Talent Acquisition\n\n\n\nHiring Forward: Expanding Talent Sourcing Strategies\n\n\n\nGenerations at Work: Communication\, Collaboration\, and Connection\n\n\n\nBuilding Benefits for Today’s Workforce\n\n\n\nDesigning the Employee Experience: Policies That Engage and Empower\n\n\n\n\nLunch will be provided. Parking instructions will be emailed prior to the event. Up to 3 representatives from each organization are invited to attend. \n\n\n\n\n\nSee Events Information
URL:https://forsythworksnc.com/event/employer-of-choice-credential/
LOCATION:Greater Winston-Salem Inc.\, 525 Vine Street Suite 240\, Winston-Salem\, NC\, 27101\, United States
CATEGORIES:Career Skills
ATTACH;FMTTYPE=image/png:https://forsythworksnc.com/wp-content/uploads/2025/08/FW-Employer-of-Choice.png
END:VEVENT
BEGIN:VEVENT
DTSTART;TZID=UTC:20251023T170000
DTEND;TZID=UTC:20251023T183000
DTSTAMP:20260423T210951
CREATED:20250804T201908Z
LAST-MODIFIED:20250804T201909Z
UID:10000156-1761238800-1761244200@forsythworksnc.com
SUMMARY:Job Ready: Skills for Success
DESCRIPTION:Are you ready to build the skills that set you up for success in your first job and beyond? Join Forsyth Works at your local public library for Job Ready: Skills for Success\, a free event designed to help teens and young adults gain confidence\, strengthen communication\, and learn what employers are really looking for. Whether you’re preparing for your first interview or just want to stand out in the workplace\, this workshop will give you the tools to take the next step with confidence. \n\n\n\n\n\nRegistration Not Required
URL:https://forsythworksnc.com/event/job-ready-skills-for-success-3/
LOCATION:Lewisville Branch Library\, 6490 Shallowford Rd.\, Lewisville\, North Carolina\, 27023\, United States
CATEGORIES:For Employers,Information Session
ATTACH;FMTTYPE=image/png:https://forsythworksnc.com/wp-content/uploads/2025/08/ARPA-March.png
END:VEVENT
BEGIN:VEVENT
DTSTART;TZID=UTC:20251029T100000
DTEND;TZID=UTC:20251029T140000
DTSTAMP:20260423T210951
CREATED:20250106T193957Z
LAST-MODIFIED:20250724T150508Z
UID:10000144-1761732000-1761746400@forsythworksnc.com
SUMMARY:Workforce Wednesdays
DESCRIPTION:What: Tabling event for employers to meet students in a high-traffic area on Forsyth Tech’s main campus \n\n\n\nDate: Each Wednesday of the Fall & Spring semesters\, beginning August 27th \n\n\n\nTime: 10 AM – 2 PM \n\n\n\nLocation: Robert L. Strickland Center lobby \n\n\n\nParticipation Fee: $25 per visit (two visits maximum per semester).  This fee will be used to buy snacks for the students\, encouraging their attendance and making the event more enjoyable for everyone. \n\n\n\nTo reserve your spot(s) for Workforce Wednesdays\, please visit Career Hub by Symplicity. Spaces are limited to 6 employers each Wednesday\, so we encourage you to secure your spot(s) early. \n\n\n\nAdditionally\, we ask that you provide as much detail as possible about your company and current job openings in your registration. This information will be shared with our students in advance\, helping them to identify employers that align with their career interests. \n\n\n\nWe encourage you to participate so you can connect with our students seeking employment opportunities\, showcase your organization’s brand and career/internship opportunities\, and demonstrate your commitment to supporting local education and workforce development initiatives. \n\n\n\n\n\nRegister
URL:https://forsythworksnc.com/event/workforce-wednesdays-3/2025-10-29/
LOCATION:Forsyth Tech Robert L. Strickland Center\, 1615 Miller Street\, Winston-Salem\, NC\, 27103
CATEGORIES:For Employers
ATTACH;FMTTYPE=image/png:https://forsythworksnc.com/wp-content/uploads/2024/07/Screenshot-2024-07-31-at-9.36.45 AM.png
END:VEVENT
BEGIN:VEVENT
DTSTART;TZID=UTC:20251030T080000
DTEND;TZID=UTC:20251030T170000
DTSTAMP:20260423T210951
CREATED:20250815T152738Z
LAST-MODIFIED:20250815T152822Z
UID:10000160-1761811200-1761843600@forsythworksnc.com
SUMMARY:Women of Manufacturing
DESCRIPTION:Join Us for the Women of Manufacturing Conference\, sponsored by Graham Personnel! \n\n\n\n📅 Date: Thursday\, October 30\, 2025 \n\n\n\n🕒 Time: 9:00 AM – 4:00 PM (Check-in and networking begins at 8:00 AM) \n\n\n\n📍 Location: Forsyth Tech Main Campus\, Strickland Rhoades Conference Center \n\n\n\nRegistration fee: $69 \n\n\n\nRegistration and payment deadline: to guarantee a meal and materials\, register by October 17th\, 2025 \n\n\n\nWe are thrilled to announce the return of Forsyth Tech’s Annual Women of Manufacturing Conference\, a unique and impactful gathering focused on empowering women in the manufacturing industry and addressing the sector’s most pressing workforce challenges. \n\n\n\nThis year’s theme—“The Talent Crisis”—will explore critical issues such as recruitment and retention\, the demographic drought\, and the childcare challenge. Through engaging sessions and meaningful conversations\, attendees will gain new insights\, share strategies\, and build valuable connections within the manufacturing community. The conference will also provide dedicated opportunities to network with other professionals who are passionate about advancing the future of manufacturing.
URL:https://forsythworksnc.com/event/women-in-manufacturing/
LOCATION:Forsyth Tech Robert L. Strickland Center\, 1615 Miller Street\, Winston-Salem\, NC\, 27103
CATEGORIES:Career Skills,Information Session
ATTACH;FMTTYPE=image/png:https://forsythworksnc.com/wp-content/uploads/2025/08/Screenshot-2025-08-15-at-11.18.02-AM.png
END:VEVENT
END:VCALENDAR